BEGIN:VCALENDAR
PRODID:-//WCVL//NONSGML Calendar//EN
VERSION:2.0
URL:http://www.wcvl.ca/ical.ics?tier=18&team=81
CALSCALE:GREGORIAN
METHOD:PUBLISH
NAME:WCVL - Touch My Volley
X-WR-CALNAME:WCVL - Touch My Volley
REFRESH-INTERVAL;VALUE=DURATION:PT24H
X-PUBLISHED-TTL:PT24H

BEGIN:VEVENT
DTSTART:20260125T134500
DTEND:20260125T151500
DTSTAMP:20260420T045840
UID:2dec8d122fa3447e2baa42fbe4fe7918@wcvl.ca
CREATED:20260126T090850
DESCRIPTION:
LAST-MODIFIED:20260126T090850
SEQUENCE:0
LOCATION:MBCI-B - court: 2
STATUS:CONFIRMED
SUMMARY:Touch My Volley @ No Shanks
TRANSP:OPAQUE
CATEGORIES:WCVL
END:VEVENT

BEGIN:VEVENT
DTSTART:20260201T103000
DTEND:20260201T120000
DTSTAMP:20260420T045840
UID:f67cd61e7bcf9f4d6b2c3e19e2c2d36d@wcvl.ca
CREATED:20260202T120556
DESCRIPTION:
LAST-MODIFIED:20260202T120556
SEQUENCE:0
LOCATION:BWCS - court: 1
STATUS:CONFIRMED
SUMMARY:Camp Block @ Touch My Volley
TRANSP:OPAQUE
CATEGORIES:WCVL
END:VEVENT

BEGIN:VEVENT
DTSTART:20260222T153000
DTEND:20260222T170000
DTSTAMP:20260420T045840
UID:3a5b32a30dde157ac0e5e90d1330fe91@wcvl.ca
CREATED:20260224T084038
DESCRIPTION:
LAST-MODIFIED:20260224T084038
SEQUENCE:0
LOCATION:BWCS - court: 3
STATUS:CONFIRMED
SUMMARY:Touch My Volley @ Can You Dig It
TRANSP:OPAQUE
CATEGORIES:WCVL
END:VEVENT

BEGIN:VEVENT
DTSTART:20260301T103000
DTEND:20260301T120000
DTSTAMP:20260420T045840
UID:de3b44f4e0e248b9d56ece385a6c1950@wcvl.ca
CREATED:20260301T222010
DESCRIPTION:
LAST-MODIFIED:20260301T222010
SEQUENCE:0
LOCATION:BWCS - court: 1
STATUS:CONFIRMED
SUMMARY:Touch My Volley @ FWV
TRANSP:OPAQUE
CATEGORIES:WCVL
END:VEVENT

BEGIN:VEVENT
DTSTART:20260308T184500
DTEND:20260308T201500
DTSTAMP:20260420T045840
UID:73475aa6f2950924842dd59077a7be8e@wcvl.ca
CREATED:20260309T170918
DESCRIPTION:
LAST-MODIFIED:20260309T170918
SEQUENCE:0
LOCATION:MBCI-R - court: 1
STATUS:CONFIRMED
SUMMARY:Practice Safe Sets @ Touch My Volley
TRANSP:OPAQUE
CATEGORIES:WCVL
END:VEVENT

BEGIN:VEVENT
DTSTART:20260315T184500
DTEND:20260315T201500
DTSTAMP:20260420T045840
UID:b37d4650ab6bcd16657b72b343cb9595@wcvl.ca
CREATED:20260315T234138
DESCRIPTION:
LAST-MODIFIED:20260315T234138
SEQUENCE:0
LOCATION:MBCI-R - court: 1
STATUS:CONFIRMED
SUMMARY:Touch My Volley @ Blockbusters
TRANSP:OPAQUE
CATEGORIES:WCVL
END:VEVENT

BEGIN:VEVENT
DTSTART:20260322T134500
DTEND:20260322T151500
DTSTAMP:20260420T045840
UID:ff23b5e3594d0ed1e0e83a7176d2d281@wcvl.ca
CREATED:20260323T092743
DESCRIPTION:
LAST-MODIFIED:20260323T092743
SEQUENCE:0
LOCATION:MBCI-R - court: 2
STATUS:CONFIRMED
SUMMARY:Volleypals @ Touch My Volley
TRANSP:OPAQUE
CATEGORIES:WCVL
END:VEVENT

END:VCALENDAR