BEGIN:VCALENDAR
PRODID:-//WCVL//NONSGML Calendar//EN
VERSION:2.0
URL:http://www.wcvl.ca/ical.ics?tier=12&team=68
CALSCALE:GREGORIAN
METHOD:PUBLISH
NAME:WCVL - Ace Holes
X-WR-CALNAME:WCVL - Ace Holes
REFRESH-INTERVAL;VALUE=DURATION:PT24H
X-PUBLISHED-TTL:PT24H

BEGIN:VEVENT
DTSTART:20260125T134500
DTEND:20260125T151500
DTSTAMP:20260423T033841
UID:39df222bffe39629d904e4883eabc654@wcvl.ca
CREATED:20260126T093104
DESCRIPTION:
LAST-MODIFIED:20260126T093104
SEQUENCE:0
LOCATION:CPET **nets down - court: 2
STATUS:CONFIRMED
SUMMARY:Floor Play @ Ace Holes
TRANSP:OPAQUE
CATEGORIES:WCVL
END:VEVENT

BEGIN:VEVENT
DTSTART:20260201T170000
DTEND:20260201T183000
DTSTAMP:20260423T033841
UID:ee42b626f7b6b71a7bceb60cf7108c25@wcvl.ca
CREATED:20260202T121756
DESCRIPTION:
LAST-MODIFIED:20260202T121756
SEQUENCE:0
LOCATION:BWCS - court: 2
STATUS:CONFIRMED
SUMMARY:Booty Os @ Ace Holes
TRANSP:OPAQUE
CATEGORIES:WCVL
END:VEVENT

BEGIN:VEVENT
DTSTART:20260222T103000
DTEND:20260222T120000
DTSTAMP:20260423T033841
UID:066763a699fbe4dc6205bac5d616162b@wcvl.ca
CREATED:20260302T130959
DESCRIPTION:
LAST-MODIFIED:20260302T130959
SEQUENCE:0
LOCATION:BWCS - court: 2
STATUS:CONFIRMED
SUMMARY:Forrest Bump @ Ace Holes
TRANSP:OPAQUE
CATEGORIES:WCVL
END:VEVENT

BEGIN:VEVENT
DTSTART:20260301T103000
DTEND:20260301T120000
DTSTAMP:20260423T033841
UID:f4bd67327fd01a153081ab6cf611a0e6@wcvl.ca
CREATED:20260302T131332
DESCRIPTION:
LAST-MODIFIED:20260302T131332
SEQUENCE:0
LOCATION:BWCS - court: 2
STATUS:CONFIRMED
SUMMARY:Ace Holes @ Fire In The Hole
TRANSP:OPAQUE
CATEGORIES:WCVL
END:VEVENT

BEGIN:VEVENT
DTSTART:20260308T121500
DTEND:20260308T134500
DTSTAMP:20260423T033841
UID:f2691acb7745bc99f9015f0953200cf1@wcvl.ca
CREATED:20260309T154955
DESCRIPTION:
LAST-MODIFIED:20260309T154955
SEQUENCE:0
LOCATION:BWCS - court: 1
STATUS:CONFIRMED
SUMMARY:Ace Holes @ Very Little Diggity
TRANSP:OPAQUE
CATEGORIES:WCVL
END:VEVENT

BEGIN:VEVENT
DTSTART:20260315T134500
DTEND:20260315T151500
DTSTAMP:20260423T033841
UID:9796df6bea85e000bb5237e2e4e5759a@wcvl.ca
CREATED:20260316T115420
DESCRIPTION:
LAST-MODIFIED:20260316T115420
SEQUENCE:0
LOCATION:CPET **nets down - court: 2
STATUS:CONFIRMED
SUMMARY:Ace Holes @ Juggernauts
TRANSP:OPAQUE
CATEGORIES:WCVL
END:VEVENT

BEGIN:VEVENT
DTSTART:20260322T103000
DTEND:20260322T120000
DTSTAMP:20260423T033841
UID:0adbd04ae60f32109b514a132757e552@wcvl.ca
CREATED:20260323T122621
DESCRIPTION:
LAST-MODIFIED:20260323T122621
SEQUENCE:0
LOCATION:BWCS - court: 2
STATUS:CONFIRMED
SUMMARY:Blue Chip @ Ace Holes
TRANSP:OPAQUE
CATEGORIES:WCVL
END:VEVENT

END:VCALENDAR