BEGIN:VCALENDAR
PRODID:-//WCVL//NONSGML Calendar//EN
VERSION:2.0
URL:http://www.wcvl.ca/ical.ics?tier=9&team=66
CALSCALE:GREGORIAN
METHOD:PUBLISH
NAME:WCVL - Late Night Sets
X-WR-CALNAME:WCVL - Late Night Sets
REFRESH-INTERVAL;VALUE=DURATION:PT24H
X-PUBLISHED-TTL:PT24H

BEGIN:VEVENT
DTSTART:20260125T170000
DTEND:20260125T183000
DTSTAMP:20260421T041655
UID:ed148e0621fd22140747d13da484ba01@wcvl.ca
CREATED:20260127T083605
DESCRIPTION:
LAST-MODIFIED:20260127T083605
SEQUENCE:0
LOCATION:BWCS - court: 3
STATUS:CONFIRMED
SUMMARY:Late Night Sets @ Spiked Punch
TRANSP:OPAQUE
CATEGORIES:WCVL
END:VEVENT

BEGIN:VEVENT
DTSTART:20260201T103000
DTEND:20260201T120000
DTSTAMP:20260421T041655
UID:c52ebd9ef5cdf82c4348a83b527159ec@wcvl.ca
CREATED:20260203T231809
DESCRIPTION:
LAST-MODIFIED:20260203T231809
SEQUENCE:0
LOCATION:MBCI-R - court: 2
STATUS:CONFIRMED
SUMMARY:Sets in the City @ Late Night Sets
TRANSP:OPAQUE
CATEGORIES:WCVL
END:VEVENT

BEGIN:VEVENT
DTSTART:20260222T153000
DTEND:20260222T170000
DTSTAMP:20260421T041655
UID:24611a00cd5703876097b06abc12643b@wcvl.ca
CREATED:20260224T005234
DESCRIPTION:
LAST-MODIFIED:20260224T005234
SEQUENCE:0
LOCATION:MBCI-R - court: 2
STATUS:CONFIRMED
SUMMARY:Late Night Sets @ The Blackouts
TRANSP:OPAQUE
CATEGORIES:WCVL
END:VEVENT

BEGIN:VEVENT
DTSTART:20260301T103000
DTEND:20260301T120000
DTSTAMP:20260421T041655
UID:fb945b3067434474ba269b604525ca02@wcvl.ca
CREATED:20260303T100128
DESCRIPTION:
LAST-MODIFIED:20260303T100128
SEQUENCE:0
LOCATION:MBCI-R - court: 2
STATUS:CONFIRMED
SUMMARY:Late Night Sets @ We Dig Yo Ballz
TRANSP:OPAQUE
CATEGORIES:WCVL
END:VEVENT

BEGIN:VEVENT
DTSTART:20260308T170000
DTEND:20260308T183000
DTSTAMP:20260421T041655
UID:9904f28d9384a095bce6d85776ddfb4e@wcvl.ca
CREATED:20260311T084433
DESCRIPTION:
LAST-MODIFIED:20260311T084433
SEQUENCE:0
LOCATION:BWCS - court: 3
STATUS:CONFIRMED
SUMMARY:BRIP @ Late Night Sets
TRANSP:OPAQUE
CATEGORIES:WCVL
END:VEVENT

BEGIN:VEVENT
DTSTART:20260315T201500
DTEND:20260315T214500
DTSTAMP:20260421T041655
UID:f376b03403415c12c017f20313af8c51@wcvl.ca
CREATED:20260317T103139
DESCRIPTION:
LAST-MODIFIED:20260317T103139
SEQUENCE:0
LOCATION:BWCS**nets down - court: 2
STATUS:CONFIRMED
SUMMARY:Late Night Sets @ Geddert Done
TRANSP:OPAQUE
CATEGORIES:WCVL
END:VEVENT

BEGIN:VEVENT
DTSTART:20260322T121500
DTEND:20260322T134500
DTSTAMP:20260421T041655
UID:5d545ba02e631dc8917f9baee649d1cf@wcvl.ca
CREATED:20260323T140902
DESCRIPTION:
LAST-MODIFIED:20260323T140902
SEQUENCE:0
LOCATION:CPET - court: 1
STATUS:CONFIRMED
SUMMARY:Halo Halo @ Late Night Sets
TRANSP:OPAQUE
CATEGORIES:WCVL
END:VEVENT

END:VCALENDAR