BEGIN:VCALENDAR
PRODID:-//WCVL//NONSGML Calendar//EN
VERSION:2.0
URL:http://www.wcvl.ca/ical.ics?tier=17&team=6
CALSCALE:GREGORIAN
METHOD:PUBLISH
NAME:WCVL - Bad Tech
X-WR-CALNAME:WCVL - Bad Tech
REFRESH-INTERVAL;VALUE=DURATION:PT24H
X-PUBLISHED-TTL:PT24H

BEGIN:VEVENT
DTSTART:20260125T121500
DTEND:20260125T134500
DTSTAMP:20260420T043901
UID:1f6a5655478c2f55c9c37207e46a6415@wcvl.ca
CREATED:20260126T090930
DESCRIPTION:
LAST-MODIFIED:20260126T090930
SEQUENCE:0
LOCATION:MBCI-B - court: 2
STATUS:CONFIRMED
SUMMARY:Bad Tech @ Serves You Right
TRANSP:OPAQUE
CATEGORIES:WCVL
END:VEVENT

BEGIN:VEVENT
DTSTART:20260201T170000
DTEND:20260201T183000
DTSTAMP:20260420T043901
UID:86ad2abe9aa87efa03c4bbee3fb005b2@wcvl.ca
CREATED:20260202T120740
DESCRIPTION:
LAST-MODIFIED:20260202T120740
SEQUENCE:0
LOCATION:MBCI-R - court: 1
STATUS:CONFIRMED
SUMMARY:Bad Tech @ Pass and Hitties
TRANSP:OPAQUE
CATEGORIES:WCVL
END:VEVENT

BEGIN:VEVENT
DTSTART:20260222T121500
DTEND:20260222T134500
DTSTAMP:20260420T043901
UID:6b5d0830f5e349e537c9c4d427f2614f@wcvl.ca
CREATED:20260222T230039
DESCRIPTION:
LAST-MODIFIED:20260222T230039
SEQUENCE:0
LOCATION:MBCI-B - court: 2
STATUS:CONFIRMED
SUMMARY:Shake That Pass For Me @ Bad Tech
TRANSP:OPAQUE
CATEGORIES:WCVL
END:VEVENT

BEGIN:VEVENT
DTSTART:20260301T170000
DTEND:20260301T183000
DTSTAMP:20260420T043901
UID:2979158b9c1e72755a8961f03e3580f5@wcvl.ca
CREATED:20260302T092026
DESCRIPTION:
LAST-MODIFIED:20260302T092026
SEQUENCE:0
LOCATION:MBCI-R - court: 1
STATUS:CONFIRMED
SUMMARY:Bad Tech @ NVC
TRANSP:OPAQUE
CATEGORIES:WCVL
END:VEVENT

BEGIN:VEVENT
DTSTART:20260308T104500
DTEND:20260308T121500
DTSTAMP:20260420T043901
UID:ae93f6696a2a89b67aa6fb45092eded7@wcvl.ca
CREATED:20260309T084348
DESCRIPTION:
LAST-MODIFIED:20260309T084348
SEQUENCE:0
LOCATION:DFH - court: 2
STATUS:CONFIRMED
SUMMARY:Bad Tech @ Sloppy Sets
TRANSP:OPAQUE
CATEGORIES:WCVL
END:VEVENT

BEGIN:VEVENT
DTSTART:20260315T104500
DTEND:20260315T121500
DTSTAMP:20260420T043901
UID:7558a03211f17086e4b8d0fbd35e9a6a@wcvl.ca
CREATED:20260315T234253
DESCRIPTION:
LAST-MODIFIED:20260315T234253
SEQUENCE:0
LOCATION:DFH - court: 2
STATUS:CONFIRMED
SUMMARY:Smashleys @ Bad Tech
TRANSP:OPAQUE
CATEGORIES:WCVL
END:VEVENT

BEGIN:VEVENT
DTSTART:20260322T090000
DTEND:20260322T103000
DTSTAMP:20260420T043901
UID:8f2ba96517924ee3d08ec132c4bad818@wcvl.ca
CREATED:20260323T093111
DESCRIPTION:
LAST-MODIFIED:20260323T093111
SEQUENCE:0
LOCATION:BWCS **nets up - court: 2
STATUS:CONFIRMED
SUMMARY:Block Party @ Bad Tech
TRANSP:OPAQUE
CATEGORIES:WCVL
END:VEVENT

END:VCALENDAR