BEGIN:VCALENDAR
PRODID:-//WCVL//NONSGML Calendar//EN
VERSION:2.0
URL:http://www.wcvl.ca/ical.ics?tier=15&team=5
CALSCALE:GREGORIAN
METHOD:PUBLISH
NAME:WCVL - The Shortys
X-WR-CALNAME:WCVL - The Shortys
REFRESH-INTERVAL;VALUE=DURATION:PT24H
X-PUBLISHED-TTL:PT24H

BEGIN:VEVENT
DTSTART:20260125T104500
DTEND:20260125T121500
DTSTAMP:20260421T042205
UID:cc940c545866af6a3c3d40a49f48764a@wcvl.ca
CREATED:20260126T125753
DESCRIPTION:
LAST-MODIFIED:20260126T125753
SEQUENCE:0
LOCATION:DFH - court: 5
STATUS:CONFIRMED
SUMMARY:The Shortys @ the ROADIES
TRANSP:OPAQUE
CATEGORIES:WCVL
END:VEVENT

BEGIN:VEVENT
DTSTART:20260201T201500
DTEND:20260201T214500
DTSTAMP:20260421T042205
UID:1dc7b8d3a70a972cda120ec7ebb61012@wcvl.ca
CREATED:20260202T200850
DESCRIPTION:
LAST-MODIFIED:20260202T200850
SEQUENCE:0
LOCATION:BWCS **nets down - court: 3
STATUS:CONFIRMED
SUMMARY:The Shortys @ Sticky Rice Assassins
TRANSP:OPAQUE
CATEGORIES:WCVL
END:VEVENT

BEGIN:VEVENT
DTSTART:20260222T104500
DTEND:20260222T121500
DTSTAMP:20260421T042205
UID:b5c480f68b9454070586dd8151546e16@wcvl.ca
CREATED:20260227T225731
DESCRIPTION:
LAST-MODIFIED:20260227T225731
SEQUENCE:0
LOCATION:DFH - court: 5
STATUS:CONFIRMED
SUMMARY:Hooters @ The Shortys
TRANSP:OPAQUE
CATEGORIES:WCVL
END:VEVENT

BEGIN:VEVENT
DTSTART:20260301T121500
DTEND:20260301T134500
DTSTAMP:20260421T042205
UID:c5b2a38cfaae2e8ed263a6af965bc117@wcvl.ca
CREATED:20260305T105653
DESCRIPTION:
LAST-MODIFIED:20260305T105653
SEQUENCE:0
LOCATION:MBCI-B - court: 1
STATUS:CONFIRMED
SUMMARY:The Shortys @ Shooters
TRANSP:OPAQUE
CATEGORIES:WCVL
END:VEVENT

BEGIN:VEVENT
DTSTART:20260308T201500
DTEND:20260308T214500
DTSTAMP:20260421T042205
UID:1041a92309a495fbb321890d3db9c32c@wcvl.ca
CREATED:20260309T091614
DESCRIPTION:
LAST-MODIFIED:20260309T091614
SEQUENCE:0
LOCATION:BWCS **nets down - court: 3
STATUS:CONFIRMED
SUMMARY:The Shortys @ Just1Bump
TRANSP:OPAQUE
CATEGORIES:WCVL
END:VEVENT

BEGIN:VEVENT
DTSTART:20260315T090000
DTEND:20260315T103000
DTSTAMP:20260421T042205
UID:78d8adecc0f8da2d414b6776334c038c@wcvl.ca
CREATED:20260315T223739
DESCRIPTION:
LAST-MODIFIED:20260315T223739
SEQUENCE:0
LOCATION:MBCI-B **nets up - court: 2
STATUS:CONFIRMED
SUMMARY:Set-sy @ The Shortys
TRANSP:OPAQUE
CATEGORIES:WCVL
END:VEVENT

BEGIN:VEVENT
DTSTART:20260322T201500
DTEND:20260322T214500
DTSTAMP:20260421T042205
UID:0e364cf4a1a53aa0afe4627cbc86d145@wcvl.ca
CREATED:20260323T074418
DESCRIPTION:
LAST-MODIFIED:20260323T074418
SEQUENCE:0
LOCATION:BWCS **nets down - court: 3
STATUS:CONFIRMED
SUMMARY:Like That @ The Shortys
TRANSP:OPAQUE
CATEGORIES:WCVL
END:VEVENT

END:VCALENDAR