BEGIN:VCALENDAR
PRODID:-//WCVL//NONSGML Calendar//EN
VERSION:2.0
URL:http://www.wcvl.ca/ical.ics?tier=16&team=305
CALSCALE:GREGORIAN
METHOD:PUBLISH
NAME:WCVL - The Swamp
X-WR-CALNAME:WCVL - The Swamp
REFRESH-INTERVAL;VALUE=DURATION:PT24H
X-PUBLISHED-TTL:PT24H

BEGIN:VEVENT
DTSTART:20260125T170000
DTEND:20260125T183000
DTSTAMP:20260421T045657
UID:4ef124d6f895ab6b274819566be43b12@wcvl.ca
CREATED:20260127T010344
DESCRIPTION:
LAST-MODIFIED:20260127T010344
SEQUENCE:0
LOCATION:BWCS - court: 2
STATUS:CONFIRMED
SUMMARY:The Swamp @ Defy
TRANSP:OPAQUE
CATEGORIES:WCVL
END:VEVENT

BEGIN:VEVENT
DTSTART:20260201T090000
DTEND:20260201T103000
DTSTAMP:20260421T045657
UID:3883cd645fd2fd862058839841a60f97@wcvl.ca
CREATED:20260202T120852
DESCRIPTION:
LAST-MODIFIED:20260202T120852
SEQUENCE:0
LOCATION:CPET**nets up - court: 1
STATUS:CONFIRMED
SUMMARY:Mind Set @ The Swamp
TRANSP:OPAQUE
CATEGORIES:WCVL
END:VEVENT

BEGIN:VEVENT
DTSTART:20260222T201500
DTEND:20260222T214500
DTSTAMP:20260421T045657
UID:4e8f015d5644555f9723e2468c19fbe4@wcvl.ca
CREATED:20260222T225904
DESCRIPTION:
LAST-MODIFIED:20260222T225904
SEQUENCE:0
LOCATION:MBCI-B **nets down - court: 1
STATUS:CONFIRMED
SUMMARY:The Swamp @ What Shot Was That
TRANSP:OPAQUE
CATEGORIES:WCVL
END:VEVENT

BEGIN:VEVENT
DTSTART:20260301T090000
DTEND:20260301T103000
DTSTAMP:20260421T045657
UID:6d3b4379cb470122a94f95b809910011@wcvl.ca
CREATED:20260302T092104
DESCRIPTION:
LAST-MODIFIED:20260302T092104
SEQUENCE:0
LOCATION:CPET**nets up - court: 1
STATUS:CONFIRMED
SUMMARY:The Swamp @ Casual Sets
TRANSP:OPAQUE
CATEGORIES:WCVL
END:VEVENT

BEGIN:VEVENT
DTSTART:20260308T090000
DTEND:20260308T103000
DTSTAMP:20260421T045657
UID:7c9758f23dd298c91fc4bef194ac9b7b@wcvl.ca
CREATED:20260309T014812
DESCRIPTION:
LAST-MODIFIED:20260309T014812
SEQUENCE:0
LOCATION:CPET**nets up - court: 1
STATUS:CONFIRMED
SUMMARY:Stop The Press @ The Swamp
TRANSP:OPAQUE
CATEGORIES:WCVL
END:VEVENT

BEGIN:VEVENT
DTSTART:20260315T090000
DTEND:20260315T103000
DTSTAMP:20260421T045657
UID:6be210fa28284f66de0df4b76f288fe7@wcvl.ca
CREATED:20260315T234537
DESCRIPTION:
LAST-MODIFIED:20260315T234537
SEQUENCE:0
LOCATION:CPET**nets up - court: 1
STATUS:CONFIRMED
SUMMARY:The Swamp @ Rough Sets
TRANSP:OPAQUE
CATEGORIES:WCVL
END:VEVENT

BEGIN:VEVENT
DTSTART:20260322T134500
DTEND:20260322T151500
DTSTAMP:20260421T045657
UID:23b3ec0c082bcc9d9b0c4e25989bdd22@wcvl.ca
CREATED:20260323T093348
DESCRIPTION:
LAST-MODIFIED:20260323T093348
SEQUENCE:0
LOCATION:BWCS - court: 1
STATUS:CONFIRMED
SUMMARY:X Gon Dig It To Ya @ The Swamp
TRANSP:OPAQUE
CATEGORIES:WCVL
END:VEVENT

END:VCALENDAR