BEGIN:VCALENDAR
PRODID:-//WCVL//NONSGML Calendar//EN
VERSION:2.0
URL:http://www.wcvl.ca/ical.ics?tier=17&team=304
CALSCALE:GREGORIAN
METHOD:PUBLISH
NAME:WCVL - Shake That Pass For Me
X-WR-CALNAME:WCVL - Shake That Pass For Me
REFRESH-INTERVAL;VALUE=DURATION:PT24H
X-PUBLISHED-TTL:PT24H

BEGIN:VEVENT
DTSTART:20260125T170000
DTEND:20260125T183000
DTSTAMP:20260420T043929
UID:cd7c61ef36c7ef4733b4f88fa19f403e@wcvl.ca
CREATED:20260127T010328
DESCRIPTION:
LAST-MODIFIED:20260127T010328
SEQUENCE:0
LOCATION:MBCI-R - court: 1
STATUS:CONFIRMED
SUMMARY:Shake That Pass For Me @ Smashleys
TRANSP:OPAQUE
CATEGORIES:WCVL
END:VEVENT

BEGIN:VEVENT
DTSTART:20260201T104500
DTEND:20260201T121500
DTSTAMP:20260420T043929
UID:7278d0d386dcc62e9c1bd86449fd41de@wcvl.ca
CREATED:20260202T120740
DESCRIPTION:
LAST-MODIFIED:20260202T120740
SEQUENCE:0
LOCATION:DFH - court: 6
STATUS:CONFIRMED
SUMMARY:Block Party @ Shake That Pass For Me
TRANSP:OPAQUE
CATEGORIES:WCVL
END:VEVENT

BEGIN:VEVENT
DTSTART:20260222T121500
DTEND:20260222T134500
DTSTAMP:20260420T043929
UID:6b5d0830f5e349e537c9c4d427f2614f@wcvl.ca
CREATED:20260222T230039
DESCRIPTION:
LAST-MODIFIED:20260222T230039
SEQUENCE:0
LOCATION:MBCI-B - court: 2
STATUS:CONFIRMED
SUMMARY:Shake That Pass For Me @ Bad Tech
TRANSP:OPAQUE
CATEGORIES:WCVL
END:VEVENT

BEGIN:VEVENT
DTSTART:20260301T201500
DTEND:20260301T214500
DTSTAMP:20260420T043929
UID:d69fe70acfb29c30d1a8a7735bc53b58@wcvl.ca
CREATED:20260302T092026
DESCRIPTION:
LAST-MODIFIED:20260302T092026
SEQUENCE:0
LOCATION:MBCI-B **nets down - court: 1
STATUS:CONFIRMED
SUMMARY:Shake That Pass For Me @ Pass and Hitties
TRANSP:OPAQUE
CATEGORIES:WCVL
END:VEVENT

BEGIN:VEVENT
DTSTART:20260308T121500
DTEND:20260308T134500
DTSTAMP:20260420T043929
UID:1464c98e03f4acaaa81a96ada1b8c61c@wcvl.ca
CREATED:20260309T014642
DESCRIPTION:
LAST-MODIFIED:20260309T014642
SEQUENCE:0
LOCATION:MBCI-B - court: 2
STATUS:CONFIRMED
SUMMARY:Serves You Right @ Shake That Pass For Me
TRANSP:OPAQUE
CATEGORIES:WCVL
END:VEVENT

BEGIN:VEVENT
DTSTART:20260315T090000
DTEND:20260315T103000
DTSTAMP:20260420T043929
UID:1d03d95d9ecec536919aef1b00f99915@wcvl.ca
CREATED:20260315T234253
DESCRIPTION:
LAST-MODIFIED:20260315T234253
SEQUENCE:0
LOCATION:BWCS **nets up - court: 2
STATUS:CONFIRMED
SUMMARY:Shake That Pass For Me @ NVC
TRANSP:OPAQUE
CATEGORIES:WCVL
END:VEVENT

BEGIN:VEVENT
DTSTART:20260322T121500
DTEND:20260322T134500
DTSTAMP:20260420T043929
UID:4d9b45c6f8d4b9d814b0ca849a6c6dda@wcvl.ca
CREATED:20260323T093111
DESCRIPTION:
LAST-MODIFIED:20260323T093111
SEQUENCE:0
LOCATION:MBCI-B - court: 2
STATUS:CONFIRMED
SUMMARY:Sloppy Sets @ Shake That Pass For Me
TRANSP:OPAQUE
CATEGORIES:WCVL
END:VEVENT

END:VCALENDAR