BEGIN:VCALENDAR
PRODID:-//WCVL//NONSGML Calendar//EN
VERSION:2.0
URL:http://www.wcvl.ca/ical.ics?tier=8&team=292
CALSCALE:GREGORIAN
METHOD:PUBLISH
NAME:WCVL - Game Time
X-WR-CALNAME:WCVL - Game Time
REFRESH-INTERVAL;VALUE=DURATION:PT24H
X-PUBLISHED-TTL:PT24H

BEGIN:VEVENT
DTSTART:20260125T090000
DTEND:20260125T103000
DTSTAMP:20260420T025343
UID:361f984ff0040fbc17be3547788ad9f3@wcvl.ca
CREATED:20260128T083836
DESCRIPTION:
LAST-MODIFIED:20260128T083836
SEQUENCE:0
LOCATION:CPET**nets up - court: 2
STATUS:CONFIRMED
SUMMARY:Game Time @ Tipsilog
TRANSP:OPAQUE
CATEGORIES:WCVL
END:VEVENT

BEGIN:VEVENT
DTSTART:20260201T140000
DTEND:20260201T153000
DTSTAMP:20260420T025343
UID:6a7fcebb1365ff225fcd4c5712017153@wcvl.ca
CREATED:20260203T231911
DESCRIPTION:
LAST-MODIFIED:20260203T231911
SEQUENCE:0
LOCATION:DFH - court: 6
STATUS:CONFIRMED
SUMMARY:Dump-lings @ Game Time
TRANSP:OPAQUE
CATEGORIES:WCVL
END:VEVENT

BEGIN:VEVENT
DTSTART:20260222T153000
DTEND:20260222T170000
DTSTAMP:20260420T025343
UID:1ac395bb4e479617b0dd8fe0d4ad4d82@wcvl.ca
CREATED:20260224T004936
DESCRIPTION:
LAST-MODIFIED:20260224T004936
SEQUENCE:0
LOCATION:MBCI-R - court: 1
STATUS:CONFIRMED
SUMMARY:Game Time @ Thunder Buddies
TRANSP:OPAQUE
CATEGORIES:WCVL
END:VEVENT

BEGIN:VEVENT
DTSTART:20260301T121500
DTEND:20260301T134500
DTSTAMP:20260420T025343
UID:ab9fd4aee1ea74d4abd54466385a2d18@wcvl.ca
CREATED:20260303T100417
DESCRIPTION:
LAST-MODIFIED:20260303T100417
SEQUENCE:0
LOCATION:BWCS - court: 3
STATUS:CONFIRMED
SUMMARY:Volley Brawlers @ Game Time
TRANSP:OPAQUE
CATEGORIES:WCVL
END:VEVENT

BEGIN:VEVENT
DTSTART:20260308T121500
DTEND:20260308T134500
DTSTAMP:20260420T025343
UID:9a78493f50b3cf15df1b06f57675a14c@wcvl.ca
CREATED:20260311T084540
DESCRIPTION:
LAST-MODIFIED:20260311T084540
SEQUENCE:0
LOCATION:BWCS - court: 3
STATUS:CONFIRMED
SUMMARY:Game Time @ Hard For None
TRANSP:OPAQUE
CATEGORIES:WCVL
END:VEVENT

BEGIN:VEVENT
DTSTART:20260315T121500
DTEND:20260315T134500
DTSTAMP:20260420T025343
UID:7efcd8c929bcbfd5b016c00a711f5759@wcvl.ca
CREATED:20260317T103250
DESCRIPTION:
LAST-MODIFIED:20260317T103250
SEQUENCE:0
LOCATION:BWCS - court: 3
STATUS:CONFIRMED
SUMMARY:Sacre Blues @ Game Time
TRANSP:OPAQUE
CATEGORIES:WCVL
END:VEVENT

BEGIN:VEVENT
DTSTART:20260322T090000
DTEND:20260322T103000
DTSTAMP:20260420T025343
UID:be6ea238d9be0fc60080a6f8a8188817@wcvl.ca
CREATED:20260323T141136
DESCRIPTION:
LAST-MODIFIED:20260323T141136
SEQUENCE:0
LOCATION:CPET**nets up - court: 2
STATUS:CONFIRMED
SUMMARY:Game Time @ Spike it like its hot
TRANSP:OPAQUE
CATEGORIES:WCVL
END:VEVENT

END:VCALENDAR