BEGIN:VCALENDAR
PRODID:-//WCVL//NONSGML Calendar//EN
VERSION:2.0
URL:http://www.wcvl.ca/ical.ics?tier=19&team=288
CALSCALE:GREGORIAN
METHOD:PUBLISH
NAME:WCVL - Super Soft Serve
X-WR-CALNAME:WCVL - Super Soft Serve
REFRESH-INTERVAL;VALUE=DURATION:PT24H
X-PUBLISHED-TTL:PT24H

BEGIN:VEVENT
DTSTART:20260125T090000
DTEND:20260125T103000
DTSTAMP:20260419T112938
UID:ba01f7779044c1ca322b725274f04d35@wcvl.ca
CREATED:20260127T084823
DESCRIPTION:
LAST-MODIFIED:20260127T084823
SEQUENCE:0
LOCATION:SMP**nets up - court: 2
STATUS:CONFIRMED
SUMMARY:Super Soft Serve @ Keep it Tight
TRANSP:OPAQUE
CATEGORIES:WCVL
END:VEVENT

BEGIN:VEVENT
DTSTART:20260201T103000
DTEND:20260201T120000
DTSTAMP:20260419T112938
UID:7d2e114bb4f82968194866029ed60d81@wcvl.ca
CREATED:20260202T120442
DESCRIPTION:
LAST-MODIFIED:20260202T120442
SEQUENCE:0
LOCATION:MURMAC**nets down - court: 2
STATUS:CONFIRMED
SUMMARY:Super Soft Serve @ Net Servers
TRANSP:OPAQUE
CATEGORIES:WCVL
END:VEVENT

BEGIN:VEVENT
DTSTART:20260222T103000
DTEND:20260222T120000
DTSTAMP:20260419T112938
UID:4859e3980bbc8dd65d8f7a68feffea54@wcvl.ca
CREATED:20260223T111354
DESCRIPTION:
LAST-MODIFIED:20260223T111354
SEQUENCE:0
LOCATION:SMP**nets down - court: 2
STATUS:CONFIRMED
SUMMARY:The Taylor Swift Fan Club @ Super Soft Serve
TRANSP:OPAQUE
CATEGORIES:WCVL
END:VEVENT

BEGIN:VEVENT
DTSTART:20260301T103000
DTEND:20260301T120000
DTSTAMP:20260419T112938
UID:b091041b6a9c7b39ba303f8d4c950e4a@wcvl.ca
CREATED:20260301T221801
DESCRIPTION:
LAST-MODIFIED:20260301T221801
SEQUENCE:0
LOCATION:SMP**nets down - court: 1
STATUS:CONFIRMED
SUMMARY:Super Soft Serve @ The Empire Spikes Back
TRANSP:OPAQUE
CATEGORIES:WCVL
END:VEVENT

BEGIN:VEVENT
DTSTART:20260308T090000
DTEND:20260308T103000
DTSTAMP:20260419T112938
UID:fa4181f0908262b9a921cbf04f821dc6@wcvl.ca
CREATED:20260309T010309
DESCRIPTION:
LAST-MODIFIED:20260309T010309
SEQUENCE:0
LOCATION:SMP**nets up - court: 1
STATUS:CONFIRMED
SUMMARY:Super Soft Serve @ Here 4 Beer
TRANSP:OPAQUE
CATEGORIES:WCVL
END:VEVENT

BEGIN:VEVENT
DTSTART:20260315T090000
DTEND:20260315T103000
DTSTAMP:20260419T112938
UID:933390dbc3600bd8710a48fef4997a7f@wcvl.ca
CREATED:20260315T233333
DESCRIPTION:
LAST-MODIFIED:20260315T233333
SEQUENCE:0
LOCATION:SMP**nets up - court: 1
STATUS:CONFIRMED
SUMMARY:Pooks @ Super Soft Serve
TRANSP:OPAQUE
CATEGORIES:WCVL
END:VEVENT

BEGIN:VEVENT
DTSTART:20260322T103000
DTEND:20260322T120000
DTSTAMP:20260419T112938
UID:dd2bdf6cb881176bc2c0c568e1a180fa@wcvl.ca
CREATED:20260323T095819
DESCRIPTION:
LAST-MODIFIED:20260323T095819
SEQUENCE:0
LOCATION:SMP**nets down - court: 2
STATUS:CONFIRMED
SUMMARY:Suicide Squad @ Super Soft Serve
TRANSP:OPAQUE
CATEGORIES:WCVL
END:VEVENT

END:VCALENDAR