BEGIN:VCALENDAR
PRODID:-//WCVL//NONSGML Calendar//EN
VERSION:2.0
URL:http://www.wcvl.ca/ical.ics?tier=14&team=285
CALSCALE:GREGORIAN
METHOD:PUBLISH
NAME:WCVL - Delusion
X-WR-CALNAME:WCVL - Delusion
REFRESH-INTERVAL;VALUE=DURATION:PT24H
X-PUBLISHED-TTL:PT24H

BEGIN:VEVENT
DTSTART:20260125T090000
DTEND:20260125T103000
DTSTAMP:20260421T041519
UID:6cb8e079d5ee909af340f303c1a2d8be@wcvl.ca
CREATED:20260126T125451
DESCRIPTION:
LAST-MODIFIED:20260126T125451
SEQUENCE:0
LOCATION:MBCI-R **nets up - court: 2
STATUS:CONFIRMED
SUMMARY:Delusion @ Self Made
TRANSP:OPAQUE
CATEGORIES:WCVL
END:VEVENT

BEGIN:VEVENT
DTSTART:20260201T090000
DTEND:20260201T103000
DTSTAMP:20260421T041519
UID:bc1cd298247f3f23db7249e6fc53f83c@wcvl.ca
CREATED:20260202T085230
DESCRIPTION:
LAST-MODIFIED:20260202T085230
SEQUENCE:0
LOCATION:MBCI-R **nets up - court: 2
STATUS:CONFIRMED
SUMMARY:Hitting Bricks @ Delusion
TRANSP:OPAQUE
CATEGORIES:WCVL
END:VEVENT

BEGIN:VEVENT
DTSTART:20260222T184500
DTEND:20260222T201500
DTSTAMP:20260421T041519
UID:3347efd591f95b516252b9a131a088ab@wcvl.ca
CREATED:20260223T115809
DESCRIPTION:
LAST-MODIFIED:20260223T115809
SEQUENCE:0
LOCATION:BWCS - court: 1
STATUS:CONFIRMED
SUMMARY:Delusion @ Big Digg Energy
TRANSP:OPAQUE
CATEGORIES:WCVL
END:VEVENT

BEGIN:VEVENT
DTSTART:20260301T090000
DTEND:20260301T103000
DTSTAMP:20260421T041519
UID:232cd4ca5efa68c0aaacaf8a874c23ab@wcvl.ca
CREATED:20260305T105431
DESCRIPTION:
LAST-MODIFIED:20260305T105431
SEQUENCE:0
LOCATION:MBCI-R **nets up - court: 2
STATUS:CONFIRMED
SUMMARY:Delusion @ Skrt Skrt
TRANSP:OPAQUE
CATEGORIES:WCVL
END:VEVENT

BEGIN:VEVENT
DTSTART:20260308T121500
DTEND:20260308T134500
DTSTAMP:20260421T041519
UID:b999a556e5f6186b8cba2dd848c22711@wcvl.ca
CREATED:20260309T103806
DESCRIPTION:
LAST-MODIFIED:20260309T103806
SEQUENCE:0
LOCATION:CPET - court: 2
STATUS:CONFIRMED
SUMMARY:Bubble Team @ Delusion
TRANSP:OPAQUE
CATEGORIES:WCVL
END:VEVENT

BEGIN:VEVENT
DTSTART:20260315T184500
DTEND:20260315T201500
DTSTAMP:20260421T041519
UID:8412670cc10f39db2e3285faaac95c5e@wcvl.ca
CREATED:20260316T145737
DESCRIPTION:
LAST-MODIFIED:20260316T145737
SEQUENCE:0
LOCATION:BWCS - court: 1
STATUS:CONFIRMED
SUMMARY:Delusion @ Bumpelstiltskin
TRANSP:OPAQUE
CATEGORIES:WCVL
END:VEVENT

BEGIN:VEVENT
DTSTART:20260322T103000
DTEND:20260322T120000
DTSTAMP:20260421T041519
UID:78777365814e9626f0011c7e57a10c6d@wcvl.ca
CREATED:20260323T124456
DESCRIPTION:
LAST-MODIFIED:20260323T124456
SEQUENCE:0
LOCATION:BWCS - court: 3
STATUS:CONFIRMED
SUMMARY:Slappin Balls on Hard Wood @ Delusion
TRANSP:OPAQUE
CATEGORIES:WCVL
END:VEVENT

END:VCALENDAR