BEGIN:VCALENDAR
PRODID:-//WCVL//NONSGML Calendar//EN
VERSION:2.0
URL:http://www.wcvl.ca/ical.ics?tier=15&team=284
CALSCALE:GREGORIAN
METHOD:PUBLISH
NAME:WCVL - Sticky Rice Assassins
X-WR-CALNAME:WCVL - Sticky Rice Assassins
REFRESH-INTERVAL;VALUE=DURATION:PT24H
X-PUBLISHED-TTL:PT24H

BEGIN:VEVENT
DTSTART:20260125T090000
DTEND:20260125T103000
DTSTAMP:20260421T042107
UID:0384d7e807a0f830fc34e813f66d0fa2@wcvl.ca
CREATED:20260126T125753
DESCRIPTION:
LAST-MODIFIED:20260126T125753
SEQUENCE:0
LOCATION:MBCI-B **nets up - court: 2
STATUS:CONFIRMED
SUMMARY:Sticky Rice Assassins @ Like That
TRANSP:OPAQUE
CATEGORIES:WCVL
END:VEVENT

BEGIN:VEVENT
DTSTART:20260201T201500
DTEND:20260201T214500
DTSTAMP:20260421T042107
UID:1dc7b8d3a70a972cda120ec7ebb61012@wcvl.ca
CREATED:20260202T200850
DESCRIPTION:
LAST-MODIFIED:20260202T200850
SEQUENCE:0
LOCATION:BWCS **nets down - court: 3
STATUS:CONFIRMED
SUMMARY:The Shortys @ Sticky Rice Assassins
TRANSP:OPAQUE
CATEGORIES:WCVL
END:VEVENT

BEGIN:VEVENT
DTSTART:20260222T121500
DTEND:20260222T134500
DTSTAMP:20260421T042107
UID:ba8ad81d576f0dc2f54732c1d37e09f3@wcvl.ca
CREATED:20260223T115651
DESCRIPTION:
LAST-MODIFIED:20260223T115651
SEQUENCE:0
LOCATION:MBCI-B - court: 1
STATUS:CONFIRMED
SUMMARY:Sticky Rice Assassins @ the ROADIES
TRANSP:OPAQUE
CATEGORIES:WCVL
END:VEVENT

BEGIN:VEVENT
DTSTART:20260301T090000
DTEND:20260301T103000
DTSTAMP:20260421T042107
UID:922650f43f77a6fe2fcdbbe4558727e3@wcvl.ca
CREATED:20260305T105653
DESCRIPTION:
LAST-MODIFIED:20260305T105653
SEQUENCE:0
LOCATION:MBCI-B **nets up - court: 2
STATUS:CONFIRMED
SUMMARY:Hooters @ Sticky Rice Assassins
TRANSP:OPAQUE
CATEGORIES:WCVL
END:VEVENT

BEGIN:VEVENT
DTSTART:20260308T104500
DTEND:20260308T121500
DTSTAMP:20260421T042107
UID:efb61dd984183066a8815190a28bd956@wcvl.ca
CREATED:20260309T091614
DESCRIPTION:
LAST-MODIFIED:20260309T091614
SEQUENCE:0
LOCATION:DFH - court: 1
STATUS:CONFIRMED
SUMMARY:Shooters @ Sticky Rice Assassins
TRANSP:OPAQUE
CATEGORIES:WCVL
END:VEVENT

BEGIN:VEVENT
DTSTART:20260315T121500
DTEND:20260315T134500
DTSTAMP:20260421T042107
UID:d09a7b61be7109f81eb8b9ace83ab6a1@wcvl.ca
CREATED:20260315T223739
DESCRIPTION:
LAST-MODIFIED:20260315T223739
SEQUENCE:0
LOCATION:MBCI-B - court: 1
STATUS:CONFIRMED
SUMMARY:Sticky Rice Assassins @ Just1Bump
TRANSP:OPAQUE
CATEGORIES:WCVL
END:VEVENT

BEGIN:VEVENT
DTSTART:20260322T121500
DTEND:20260322T134500
DTSTAMP:20260421T042107
UID:1a81859544a7eff3e599b8c322559c00@wcvl.ca
CREATED:20260323T074418
DESCRIPTION:
LAST-MODIFIED:20260323T074418
SEQUENCE:0
LOCATION:MBCI-B - court: 1
STATUS:CONFIRMED
SUMMARY:Set-sy @ Sticky Rice Assassins
TRANSP:OPAQUE
CATEGORIES:WCVL
END:VEVENT

END:VCALENDAR