BEGIN:VCALENDAR
PRODID:-//WCVL//NONSGML Calendar//EN
VERSION:2.0
URL:http://www.wcvl.ca/ical.ics?tier=14&team=283
CALSCALE:GREGORIAN
METHOD:PUBLISH
NAME:WCVL - Skrt Skrt
X-WR-CALNAME:WCVL - Skrt Skrt
REFRESH-INTERVAL;VALUE=DURATION:PT24H
X-PUBLISHED-TTL:PT24H

BEGIN:VEVENT
DTSTART:20260125T121500
DTEND:20260125T134500
DTSTAMP:20260421T042554
UID:39a76364cb36b07fb24b9d1b320ccd8a@wcvl.ca
CREATED:20260126T125451
DESCRIPTION:
LAST-MODIFIED:20260126T125451
SEQUENCE:0
LOCATION:CPET - court: 2
STATUS:CONFIRMED
SUMMARY:Skrt Skrt @ Hitting Bricks
TRANSP:OPAQUE
CATEGORIES:WCVL
END:VEVENT

BEGIN:VEVENT
DTSTART:20260201T121500
DTEND:20260201T134500
DTSTAMP:20260421T042554
UID:9763616920135ae280576494ba862400@wcvl.ca
CREATED:20260202T085230
DESCRIPTION:
LAST-MODIFIED:20260202T085230
SEQUENCE:0
LOCATION:CPET - court: 2
STATUS:CONFIRMED
SUMMARY:Big Digg Energy @ Skrt Skrt
TRANSP:OPAQUE
CATEGORIES:WCVL
END:VEVENT

BEGIN:VEVENT
DTSTART:20260222T090000
DTEND:20260222T103000
DTSTAMP:20260421T042554
UID:db5868f688fa2aedf45453ed89299e8a@wcvl.ca
CREATED:20260223T115357
DESCRIPTION:
LAST-MODIFIED:20260223T115357
SEQUENCE:0
LOCATION:MBCI-R **nets up - court: 2
STATUS:CONFIRMED
SUMMARY:Skrt Skrt @ Bubble Team
TRANSP:OPAQUE
CATEGORIES:WCVL
END:VEVENT

BEGIN:VEVENT
DTSTART:20260301T090000
DTEND:20260301T103000
DTSTAMP:20260421T042554
UID:232cd4ca5efa68c0aaacaf8a874c23ab@wcvl.ca
CREATED:20260305T105431
DESCRIPTION:
LAST-MODIFIED:20260305T105431
SEQUENCE:0
LOCATION:MBCI-R **nets up - court: 2
STATUS:CONFIRMED
SUMMARY:Delusion @ Skrt Skrt
TRANSP:OPAQUE
CATEGORIES:WCVL
END:VEVENT

BEGIN:VEVENT
DTSTART:20260308T090000
DTEND:20260308T103000
DTSTAMP:20260421T042554
UID:be18f4dac22b7a34ce750a5e3e2eed21@wcvl.ca
CREATED:20260309T091438
DESCRIPTION:
LAST-MODIFIED:20260309T091438
SEQUENCE:0
LOCATION:MBCI-R **nets up - court: 2
STATUS:CONFIRMED
SUMMARY:Bumpelstiltskin @ Skrt Skrt
TRANSP:OPAQUE
CATEGORIES:WCVL
END:VEVENT

BEGIN:VEVENT
DTSTART:20260315T121500
DTEND:20260315T134500
DTSTAMP:20260421T042554
UID:b51fdc5d9a5df68251084c59030a5ad8@wcvl.ca
CREATED:20260315T223532
DESCRIPTION:
LAST-MODIFIED:20260315T223532
SEQUENCE:0
LOCATION:CPET - court: 2
STATUS:CONFIRMED
SUMMARY:Skrt Skrt @ Slappin Balls on Hard Wood
TRANSP:OPAQUE
CATEGORIES:WCVL
END:VEVENT

BEGIN:VEVENT
DTSTART:20260322T121500
DTEND:20260322T134500
DTSTAMP:20260421T042554
UID:5d2a17889800e16c68601989cfaa5848@wcvl.ca
CREATED:20260323T074742
DESCRIPTION:
LAST-MODIFIED:20260323T074742
SEQUENCE:0
LOCATION:CPET - court: 2
STATUS:CONFIRMED
SUMMARY:Self Made @ Skrt Skrt
TRANSP:OPAQUE
CATEGORIES:WCVL
END:VEVENT

END:VCALENDAR