BEGIN:VCALENDAR
PRODID:-//WCVL//NONSGML Calendar//EN
VERSION:2.0
URL:http://www.wcvl.ca/ical.ics?tier=15&team=279
CALSCALE:GREGORIAN
METHOD:PUBLISH
NAME:WCVL - the ROADIES
X-WR-CALNAME:WCVL - the ROADIES
REFRESH-INTERVAL;VALUE=DURATION:PT24H
X-PUBLISHED-TTL:PT24H

BEGIN:VEVENT
DTSTART:20260125T104500
DTEND:20260125T121500
DTSTAMP:20260421T042409
UID:cc940c545866af6a3c3d40a49f48764a@wcvl.ca
CREATED:20260126T125753
DESCRIPTION:
LAST-MODIFIED:20260126T125753
SEQUENCE:0
LOCATION:DFH - court: 5
STATUS:CONFIRMED
SUMMARY:The Shortys @ the ROADIES
TRANSP:OPAQUE
CATEGORIES:WCVL
END:VEVENT

BEGIN:VEVENT
DTSTART:20260201T121500
DTEND:20260201T134500
DTSTAMP:20260421T042409
UID:1bb5dc166a3dd535de9fb463e487a03c@wcvl.ca
CREATED:20260202T085354
DESCRIPTION:
LAST-MODIFIED:20260202T085354
SEQUENCE:0
LOCATION:MBCI-B - court: 1
STATUS:CONFIRMED
SUMMARY:Just1Bump @ the ROADIES
TRANSP:OPAQUE
CATEGORIES:WCVL
END:VEVENT

BEGIN:VEVENT
DTSTART:20260222T121500
DTEND:20260222T134500
DTSTAMP:20260421T042409
UID:ba8ad81d576f0dc2f54732c1d37e09f3@wcvl.ca
CREATED:20260223T115651
DESCRIPTION:
LAST-MODIFIED:20260223T115651
SEQUENCE:0
LOCATION:MBCI-B - court: 1
STATUS:CONFIRMED
SUMMARY:Sticky Rice Assassins @ the ROADIES
TRANSP:OPAQUE
CATEGORIES:WCVL
END:VEVENT

BEGIN:VEVENT
DTSTART:20260301T104500
DTEND:20260301T121500
DTSTAMP:20260421T042409
UID:cef70cc8dbcc7149988652bf7dff8ff8@wcvl.ca
CREATED:20260305T105653
DESCRIPTION:
LAST-MODIFIED:20260305T105653
SEQUENCE:0
LOCATION:DFH - court: 1
STATUS:CONFIRMED
SUMMARY:the ROADIES @ Set-sy
TRANSP:OPAQUE
CATEGORIES:WCVL
END:VEVENT

BEGIN:VEVENT
DTSTART:20260308T121500
DTEND:20260308T134500
DTSTAMP:20260421T042409
UID:39f1eea5596e2fb08737be60887d30df@wcvl.ca
CREATED:20260309T091614
DESCRIPTION:
LAST-MODIFIED:20260309T091614
SEQUENCE:0
LOCATION:MBCI-B - court: 1
STATUS:CONFIRMED
SUMMARY:the ROADIES @ Hooters
TRANSP:OPAQUE
CATEGORIES:WCVL
END:VEVENT

BEGIN:VEVENT
DTSTART:20260315T201500
DTEND:20260315T214500
DTSTAMP:20260421T042409
UID:bc8a3b91b762ea06e9ca6d8e8e9caca0@wcvl.ca
CREATED:20260315T234248
DESCRIPTION:
LAST-MODIFIED:20260315T234248
SEQUENCE:0
LOCATION:BWCS **nets down - court: 3
STATUS:CONFIRMED
SUMMARY:the ROADIES @ Like That
TRANSP:OPAQUE
CATEGORIES:WCVL
END:VEVENT

BEGIN:VEVENT
DTSTART:20260322T090000
DTEND:20260322T103000
DTSTAMP:20260421T042409
UID:5f2150c49f5aa191fdee5f8d26c3e50e@wcvl.ca
CREATED:20260323T074205
DESCRIPTION:
LAST-MODIFIED:20260323T074205
SEQUENCE:0
LOCATION:MBCI-B **nets up - court: 2
STATUS:CONFIRMED
SUMMARY:Shooters @ the ROADIES
TRANSP:OPAQUE
CATEGORIES:WCVL
END:VEVENT

END:VCALENDAR