BEGIN:VCALENDAR
PRODID:-//WCVL//NONSGML Calendar//EN
VERSION:2.0
URL:http://www.wcvl.ca/ical.ics?tier=12&team=266
CALSCALE:GREGORIAN
METHOD:PUBLISH
NAME:WCVL - Very Little Diggity
X-WR-CALNAME:WCVL - Very Little Diggity
REFRESH-INTERVAL;VALUE=DURATION:PT24H
X-PUBLISHED-TTL:PT24H

BEGIN:VEVENT
DTSTART:20260125T184500
DTEND:20260125T201500
DTSTAMP:20260421T043253
UID:4d3416f98cb21a9d46d59d2bce5be36b@wcvl.ca
CREATED:20260128T102020
DESCRIPTION:
LAST-MODIFIED:20260128T102020
SEQUENCE:0
LOCATION:MBCI-B - court: 2
STATUS:CONFIRMED
SUMMARY:Very Little Diggity @ Fire In The Hole
TRANSP:OPAQUE
CATEGORIES:WCVL
END:VEVENT

BEGIN:VEVENT
DTSTART:20260201T103000
DTEND:20260201T120000
DTSTAMP:20260421T043253
UID:e706c0ce5e39be9bd5b37ecb5a0f983c@wcvl.ca
CREATED:20260202T121756
DESCRIPTION:
LAST-MODIFIED:20260202T121756
SEQUENCE:0
LOCATION:BWCS - court: 2
STATUS:CONFIRMED
SUMMARY:Juggernauts @ Very Little Diggity
TRANSP:OPAQUE
CATEGORIES:WCVL
END:VEVENT

BEGIN:VEVENT
DTSTART:20260222T134500
DTEND:20260222T151500
DTSTAMP:20260421T043253
UID:21cbc3cbc42d3d64fe4364ad8b7a9b7e@wcvl.ca
CREATED:20260302T130959
DESCRIPTION:
LAST-MODIFIED:20260302T130959
SEQUENCE:0
LOCATION:CPET **nets down - court: 2
STATUS:CONFIRMED
SUMMARY:Very Little Diggity @ Floor Play
TRANSP:OPAQUE
CATEGORIES:WCVL
END:VEVENT

BEGIN:VEVENT
DTSTART:20260301T201500
DTEND:20260301T214500
DTSTAMP:20260421T043253
UID:82c000542cf828ca7c5d80972fb92c63@wcvl.ca
CREATED:20260302T131332
DESCRIPTION:
LAST-MODIFIED:20260302T131332
SEQUENCE:0
LOCATION:MBCI-R **nets down - court: 2
STATUS:CONFIRMED
SUMMARY:Very Little Diggity @ Forrest Bump
TRANSP:OPAQUE
CATEGORIES:WCVL
END:VEVENT

BEGIN:VEVENT
DTSTART:20260308T121500
DTEND:20260308T134500
DTSTAMP:20260421T043253
UID:f2691acb7745bc99f9015f0953200cf1@wcvl.ca
CREATED:20260309T154955
DESCRIPTION:
LAST-MODIFIED:20260309T154955
SEQUENCE:0
LOCATION:BWCS - court: 1
STATUS:CONFIRMED
SUMMARY:Ace Holes @ Very Little Diggity
TRANSP:OPAQUE
CATEGORIES:WCVL
END:VEVENT

BEGIN:VEVENT
DTSTART:20260315T091500
DTEND:20260315T104500
DTSTAMP:20260421T043253
UID:035d7cf26cd0316c1b870ca3f9a18a89@wcvl.ca
CREATED:20260316T115420
DESCRIPTION:
LAST-MODIFIED:20260316T115420
SEQUENCE:0
LOCATION:DFH - court: 2
STATUS:CONFIRMED
SUMMARY:Very Little Diggity @ Blue Chip
TRANSP:OPAQUE
CATEGORIES:WCVL
END:VEVENT

BEGIN:VEVENT
DTSTART:20260322T201500
DTEND:20260322T214500
DTSTAMP:20260421T043253
UID:b1c5d6d28abda1b579b1718613c62d93@wcvl.ca
CREATED:20260323T122602
DESCRIPTION:
LAST-MODIFIED:20260323T122602
SEQUENCE:0
LOCATION:MBCI-R **nets down - court: 2
STATUS:CONFIRMED
SUMMARY:Booty Os @ Very Little Diggity
TRANSP:OPAQUE
CATEGORIES:WCVL
END:VEVENT

END:VCALENDAR