BEGIN:VCALENDAR
PRODID:-//WCVL//NONSGML Calendar//EN
VERSION:2.0
URL:http://www.wcvl.ca/ical.ics?tier=13&team=247
CALSCALE:GREGORIAN
METHOD:PUBLISH
NAME:WCVL - Spikological Warfare
X-WR-CALNAME:WCVL - Spikological Warfare
REFRESH-INTERVAL;VALUE=DURATION:PT24H
X-PUBLISHED-TTL:PT24H

BEGIN:VEVENT
DTSTART:20260125T134500
DTEND:20260125T151500
DTSTAMP:20260421T041519
UID:94a8e2d042a7d4aca7b47e7d1817795c@wcvl.ca
CREATED:20260126T211813
DESCRIPTION:
LAST-MODIFIED:20260126T211813
SEQUENCE:0
LOCATION:BWCS - court: 3
STATUS:CONFIRMED
SUMMARY:BLOCKPINK @ Spikological Warfare
TRANSP:OPAQUE
CATEGORIES:WCVL
END:VEVENT

BEGIN:VEVENT
DTSTART:20260201T134500
DTEND:20260201T151500
DTSTAMP:20260421T041519
UID:4d0ac884f6fdb0c44f281653697aa2cc@wcvl.ca
CREATED:20260223T161829
DESCRIPTION:
LAST-MODIFIED:20260223T161829
SEQUENCE:0
LOCATION:BWCS - court: 3
STATUS:CONFIRMED
SUMMARY:A$ap Blocky @ Spikological Warfare
TRANSP:OPAQUE
CATEGORIES:WCVL
END:VEVENT

BEGIN:VEVENT
DTSTART:20260222T103000
DTEND:20260222T120000
DTSTAMP:20260421T041519
UID:db6d9e1beb13d90e4a67706afb39e4e8@wcvl.ca
CREATED:20260223T115305
DESCRIPTION:
LAST-MODIFIED:20260223T115305
SEQUENCE:0
LOCATION:CPET - court: 2
STATUS:CONFIRMED
SUMMARY:SBF @ Spikological Warfare
TRANSP:OPAQUE
CATEGORIES:WCVL
END:VEVENT

BEGIN:VEVENT
DTSTART:20260301T184500
DTEND:20260301T201500
DTSTAMP:20260421T041519
UID:73c7f51cc11fcfe48b44cf5e412fe1e4@wcvl.ca
CREATED:20260305T105302
DESCRIPTION:
LAST-MODIFIED:20260305T105302
SEQUENCE:0
LOCATION:MBCI-B - court: 1
STATUS:CONFIRMED
SUMMARY:Spikological Warfare @ Petite &amp; Discreet
TRANSP:OPAQUE
CATEGORIES:WCVL
END:VEVENT

BEGIN:VEVENT
DTSTART:20260308T134500
DTEND:20260308T151500
DTSTAMP:20260421T041519
UID:b3f9a0026fb6e31d468ed053f43eb6fb@wcvl.ca
CREATED:20260309T091716
DESCRIPTION:
LAST-MODIFIED:20260309T091716
SEQUENCE:0
LOCATION:BWCS - court: 3
STATUS:CONFIRMED
SUMMARY:Spikological Warfare @ Salonpass
TRANSP:OPAQUE
CATEGORIES:WCVL
END:VEVENT

BEGIN:VEVENT
DTSTART:20260315T103000
DTEND:20260315T120000
DTSTAMP:20260421T041519
UID:94febc12ef3e7fc6326a0a43d4f930c5@wcvl.ca
CREATED:20260315T223611
DESCRIPTION:
LAST-MODIFIED:20260315T223611
SEQUENCE:0
LOCATION:CPET - court: 2
STATUS:CONFIRMED
SUMMARY:Spikological Warfare @ Calm Yo Tips
TRANSP:OPAQUE
CATEGORIES:WCVL
END:VEVENT

BEGIN:VEVENT
DTSTART:20260322T153000
DTEND:20260322T170000
DTSTAMP:20260421T041519
UID:03cef8e7edda311c36b08c98bbb2f92f@wcvl.ca
CREATED:20260323T181605
DESCRIPTION:
LAST-MODIFIED:20260323T181605
SEQUENCE:0
LOCATION:CPET - court: 2
STATUS:CONFIRMED
SUMMARY:Sharknado @ Spikological Warfare
TRANSP:OPAQUE
CATEGORIES:WCVL
END:VEVENT

END:VCALENDAR