BEGIN:VCALENDAR
PRODID:-//WCVL//NONSGML Calendar//EN
VERSION:2.0
URL:http://www.wcvl.ca/ical.ics?tier=3&team=240
CALSCALE:GREGORIAN
METHOD:PUBLISH
NAME:WCVL - Hits & Giggles
X-WR-CALNAME:WCVL - Hits & Giggles
REFRESH-INTERVAL;VALUE=DURATION:PT24H
X-PUBLISHED-TTL:PT24H

BEGIN:VEVENT
DTSTART:20260125T134500
DTEND:20260125T151500
DTSTAMP:20260420T044412
UID:947d58595850e1144d54658c873d4b0b@wcvl.ca
CREATED:20260127T223939
DESCRIPTION:
LAST-MODIFIED:20260127T223939
SEQUENCE:0
LOCATION:MBCI-R - court: 1
STATUS:CONFIRMED
SUMMARY:Some Fat Cows @ Hits &amp; Giggles
TRANSP:OPAQUE
CATEGORIES:WCVL
END:VEVENT

BEGIN:VEVENT
DTSTART:20260201T153000
DTEND:20260201T170000
DTSTAMP:20260420T044412
UID:643d54cbb5e50cf4a6e978af475a98a2@wcvl.ca
CREATED:20260202T103216
DESCRIPTION:
LAST-MODIFIED:20260202T103216
SEQUENCE:0
LOCATION:MBCI-B - court: 1
STATUS:CONFIRMED
SUMMARY:Bring The Heat @ Hits &amp; Giggles
TRANSP:OPAQUE
CATEGORIES:WCVL
END:VEVENT

BEGIN:VEVENT
DTSTART:20260222T153000
DTEND:20260222T170000
DTSTAMP:20260420T044412
UID:48e4527085f884352825f9f7df2846db@wcvl.ca
CREATED:20260223T124231
DESCRIPTION:
LAST-MODIFIED:20260223T124231
SEQUENCE:0
LOCATION:MBCI-B - court: 1
STATUS:CONFIRMED
SUMMARY:Just the Tip @ Hits &amp; Giggles
TRANSP:OPAQUE
CATEGORIES:WCVL
END:VEVENT

BEGIN:VEVENT
DTSTART:20260301T170000
DTEND:20260301T183000
DTSTAMP:20260420T044412
UID:89da20a8a13c626a8d548921efab2754@wcvl.ca
CREATED:20260305T230755
DESCRIPTION:
LAST-MODIFIED:20260305T230755
SEQUENCE:0
LOCATION:MBCI-R - court: 2
STATUS:CONFIRMED
SUMMARY:Hits &amp; Giggles @ 86d Bumps
TRANSP:OPAQUE
CATEGORIES:WCVL
END:VEVENT

BEGIN:VEVENT
DTSTART:20260308T153000
DTEND:20260308T170000
DTSTAMP:20260420T044412
UID:86777b5a973a14f140122fd23b418b41@wcvl.ca
CREATED:20260312T221232
DESCRIPTION:
LAST-MODIFIED:20260312T221232
SEQUENCE:0
LOCATION:MBCI-B - court: 1
STATUS:CONFIRMED
SUMMARY:Hits &amp; Giggles @ Hangover Hangtime
TRANSP:OPAQUE
CATEGORIES:WCVL
END:VEVENT

BEGIN:VEVENT
DTSTART:20260315T153000
DTEND:20260315T170000
DTSTAMP:20260420T044412
UID:4572837cfa3489c4ef6c180ff21eb8ca@wcvl.ca
CREATED:20260315T235916
DESCRIPTION:
LAST-MODIFIED:20260315T235916
SEQUENCE:0
LOCATION:MBCI-R - court: 1
STATUS:CONFIRMED
SUMMARY:Hits &amp; Giggles @ 2PACS
TRANSP:OPAQUE
CATEGORIES:WCVL
END:VEVENT

BEGIN:VEVENT
DTSTART:20260322T153000
DTEND:20260322T170000
DTSTAMP:20260420T044412
UID:7578c59fe5938a5955a73867d20d4809@wcvl.ca
CREATED:20260323T011833
DESCRIPTION:
LAST-MODIFIED:20260323T011833
SEQUENCE:0
LOCATION:MBCI-R - court: 2
STATUS:CONFIRMED
SUMMARY:Shhh...Its Weird @ Hits &amp; Giggles
TRANSP:OPAQUE
CATEGORIES:WCVL
END:VEVENT

END:VCALENDAR