BEGIN:VCALENDAR
PRODID:-//WCVL//NONSGML Calendar//EN
VERSION:2.0
URL:http://www.wcvl.ca/ical.ics?tier=8&team=227
CALSCALE:GREGORIAN
METHOD:PUBLISH
NAME:WCVL - Hard For None
X-WR-CALNAME:WCVL - Hard For None
REFRESH-INTERVAL;VALUE=DURATION:PT24H
X-PUBLISHED-TTL:PT24H

BEGIN:VEVENT
DTSTART:20260125T170000
DTEND:20260125T183000
DTSTAMP:20260420T025456
UID:8f7d4d570dd8d2de4e4713dc37719db8@wcvl.ca
CREATED:20260127T083700
DESCRIPTION:
LAST-MODIFIED:20260127T083700
SEQUENCE:0
LOCATION:MBCI-B - court: 1
STATUS:CONFIRMED
SUMMARY:Hard For None @ Thunder Buddies
TRANSP:OPAQUE
CATEGORIES:WCVL
END:VEVENT

BEGIN:VEVENT
DTSTART:20260201T184500
DTEND:20260201T201500
DTSTAMP:20260420T025456
UID:49a0fa0ea45d6c65e0524d65fb737c84@wcvl.ca
CREATED:20260204T004101
DESCRIPTION:
LAST-MODIFIED:20260204T004101
SEQUENCE:0
LOCATION:BWCS - court: 3
STATUS:CONFIRMED
SUMMARY:Volley Brawlers @ Hard For None
TRANSP:OPAQUE
CATEGORIES:WCVL
END:VEVENT

BEGIN:VEVENT
DTSTART:20260222T184500
DTEND:20260222T201500
DTSTAMP:20260420T025456
UID:ee4bf6db5e976ea9277d22ce248fc76a@wcvl.ca
CREATED:20260224T120128
DESCRIPTION:
LAST-MODIFIED:20260224T120128
SEQUENCE:0
LOCATION:BWCS - court: 3
STATUS:CONFIRMED
SUMMARY:Hard For None @ Spike it like its hot
TRANSP:OPAQUE
CATEGORIES:WCVL
END:VEVENT

BEGIN:VEVENT
DTSTART:20260301T090000
DTEND:20260301T103000
DTSTAMP:20260420T025456
UID:ee61b754c078f757f61f2422169d6f92@wcvl.ca
CREATED:20260304T115341
DESCRIPTION:
LAST-MODIFIED:20260304T115341
SEQUENCE:0
LOCATION:CPET**nets up - court: 2
STATUS:CONFIRMED
SUMMARY:Sacre Blues @ Hard For None
TRANSP:OPAQUE
CATEGORIES:WCVL
END:VEVENT

BEGIN:VEVENT
DTSTART:20260308T121500
DTEND:20260308T134500
DTSTAMP:20260420T025456
UID:9a78493f50b3cf15df1b06f57675a14c@wcvl.ca
CREATED:20260311T084540
DESCRIPTION:
LAST-MODIFIED:20260311T084540
SEQUENCE:0
LOCATION:BWCS - court: 3
STATUS:CONFIRMED
SUMMARY:Game Time @ Hard For None
TRANSP:OPAQUE
CATEGORIES:WCVL
END:VEVENT

BEGIN:VEVENT
DTSTART:20260315T121500
DTEND:20260315T134500
DTSTAMP:20260420T025456
UID:43a30d90c4430a7de2ec7fc705164403@wcvl.ca
CREATED:20260317T103250
DESCRIPTION:
LAST-MODIFIED:20260317T103250
SEQUENCE:0
LOCATION:CPET - court: 1
STATUS:CONFIRMED
SUMMARY:Hard For None @ Tipsilog
TRANSP:OPAQUE
CATEGORIES:WCVL
END:VEVENT

BEGIN:VEVENT
DTSTART:20260322T090000
DTEND:20260322T103000
DTSTAMP:20260420T025456
UID:b250fe1a18442054cf3a68d4644cb13b@wcvl.ca
CREATED:20260323T170505
DESCRIPTION:
LAST-MODIFIED:20260323T170505
SEQUENCE:0
LOCATION:BWCS **nets up - court: 1
STATUS:CONFIRMED
SUMMARY:Dump-lings @ Hard For None
TRANSP:OPAQUE
CATEGORIES:WCVL
END:VEVENT

END:VCALENDAR