BEGIN:VCALENDAR
PRODID:-//WCVL//NONSGML Calendar//EN
VERSION:2.0
URL:http://www.wcvl.ca/ical.ics?tier=18&team=21
CALSCALE:GREGORIAN
METHOD:PUBLISH
NAME:WCVL - Can You Dig It
X-WR-CALNAME:WCVL - Can You Dig It
REFRESH-INTERVAL;VALUE=DURATION:PT24H
X-PUBLISHED-TTL:PT24H

BEGIN:VEVENT
DTSTART:20260125T134500
DTEND:20260125T151500
DTSTAMP:20260420T045409
UID:cc34f605458c15226bb56a2d79f3d62c@wcvl.ca
CREATED:20260126T090850
DESCRIPTION:
LAST-MODIFIED:20260126T090850
SEQUENCE:0
LOCATION:MBCI-R - court: 2
STATUS:CONFIRMED
SUMMARY:Can You Dig It @ Practice Safe Sets
TRANSP:OPAQUE
CATEGORIES:WCVL
END:VEVENT

BEGIN:VEVENT
DTSTART:20260201T184500
DTEND:20260201T201500
DTSTAMP:20260420T045409
UID:16e62507eba0d973dc7aa14aa3aa41ab@wcvl.ca
CREATED:20260202T120556
DESCRIPTION:
LAST-MODIFIED:20260202T120556
SEQUENCE:0
LOCATION:MBCI-R - court: 1
STATUS:CONFIRMED
SUMMARY:Can You Dig It @ FWV
TRANSP:OPAQUE
CATEGORIES:WCVL
END:VEVENT

BEGIN:VEVENT
DTSTART:20260222T153000
DTEND:20260222T170000
DTSTAMP:20260420T045409
UID:3a5b32a30dde157ac0e5e90d1330fe91@wcvl.ca
CREATED:20260224T084038
DESCRIPTION:
LAST-MODIFIED:20260224T084038
SEQUENCE:0
LOCATION:BWCS - court: 3
STATUS:CONFIRMED
SUMMARY:Touch My Volley @ Can You Dig It
TRANSP:OPAQUE
CATEGORIES:WCVL
END:VEVENT

BEGIN:VEVENT
DTSTART:20260301T134500
DTEND:20260301T151500
DTSTAMP:20260420T045409
UID:493c465c0ff313adb2a8164d3cdee573@wcvl.ca
CREATED:20260301T222010
DESCRIPTION:
LAST-MODIFIED:20260301T222010
SEQUENCE:0
LOCATION:MBCI-B - court: 2
STATUS:CONFIRMED
SUMMARY:Can You Dig It @ Blockbusters
TRANSP:OPAQUE
CATEGORIES:WCVL
END:VEVENT

BEGIN:VEVENT
DTSTART:20260308T103000
DTEND:20260308T120000
DTSTAMP:20260420T045409
UID:baaf111c2bdc129a356a14f79fefd224@wcvl.ca
CREATED:20260309T014255
DESCRIPTION:
LAST-MODIFIED:20260309T014255
SEQUENCE:0
LOCATION:BWCS - court: 1
STATUS:CONFIRMED
SUMMARY:Can You Dig It @ Volleypals
TRANSP:OPAQUE
CATEGORIES:WCVL
END:VEVENT

BEGIN:VEVENT
DTSTART:20260315T103000
DTEND:20260315T120000
DTSTAMP:20260420T045409
UID:cd483cdcbfa62470fa1ec3771c5fe370@wcvl.ca
CREATED:20260316T080020
DESCRIPTION:
LAST-MODIFIED:20260316T080020
SEQUENCE:0
LOCATION:BWCS - court: 1
STATUS:CONFIRMED
SUMMARY:No Shanks @ Can You Dig It
TRANSP:OPAQUE
CATEGORIES:WCVL
END:VEVENT

BEGIN:VEVENT
DTSTART:20260322T184500
DTEND:20260322T201500
DTSTAMP:20260420T045409
UID:e97bab5d4b13eb276aa4209d0f7d4f72@wcvl.ca
CREATED:20260323T092743
DESCRIPTION:
LAST-MODIFIED:20260323T092743
SEQUENCE:0
LOCATION:MBCI-R - court: 1
STATUS:CONFIRMED
SUMMARY:Camp Block @ Can You Dig It
TRANSP:OPAQUE
CATEGORIES:WCVL
END:VEVENT

END:VCALENDAR