BEGIN:VCALENDAR
PRODID:-//WCVL//NONSGML Calendar//EN
VERSION:2.0
URL:http://www.wcvl.ca/ical.ics?tier=2&team=188
CALSCALE:GREGORIAN
METHOD:PUBLISH
NAME:WCVL - Nasty 90s
X-WR-CALNAME:WCVL - Nasty 90s
REFRESH-INTERVAL;VALUE=DURATION:PT24H
X-PUBLISHED-TTL:PT24H

BEGIN:VEVENT
DTSTART:20260125T201500
DTEND:20260125T214500
DTSTAMP:20260419T110855
UID:4752b5db56ec5b58b152a68318581f6b@wcvl.ca
CREATED:20260127T223729
DESCRIPTION:
LAST-MODIFIED:20260127T223729
SEQUENCE:0
LOCATION:MBCI-R **nets down - court: 1
STATUS:CONFIRMED
SUMMARY:All About That Ace @ Nasty 90s
TRANSP:OPAQUE
CATEGORIES:WCVL
END:VEVENT

BEGIN:VEVENT
DTSTART:20260201T170000
DTEND:20260201T183000
DTSTAMP:20260419T110855
UID:f5d523734ce2ac76ad9215bd0f87c376@wcvl.ca
CREATED:20260202T102441
DESCRIPTION:
LAST-MODIFIED:20260202T102441
SEQUENCE:0
LOCATION:MBCI-R - court: 2
STATUS:CONFIRMED
SUMMARY:RSO @ Nasty 90s
TRANSP:OPAQUE
CATEGORIES:WCVL
END:VEVENT

BEGIN:VEVENT
DTSTART:20260222T121500
DTEND:20260222T134500
DTSTAMP:20260419T110855
UID:ad409abd19cd473d128eaab4f69f0daf@wcvl.ca
CREATED:20260223T123405
DESCRIPTION:
LAST-MODIFIED:20260223T123405
SEQUENCE:0
LOCATION:MBCI-R - court: 2
STATUS:CONFIRMED
SUMMARY:Go Time @ Nasty 90s
TRANSP:OPAQUE
CATEGORIES:WCVL
END:VEVENT

BEGIN:VEVENT
DTSTART:20260301T103000
DTEND:20260301T120000
DTSTAMP:20260419T110855
UID:f6bb6d65c8c39c685424a156838f6853@wcvl.ca
CREATED:20260305T230543
DESCRIPTION:
LAST-MODIFIED:20260305T230543
SEQUENCE:0
LOCATION:CPET - court: 1
STATUS:CONFIRMED
SUMMARY:Nasty 90s @ Scared Hitless
TRANSP:OPAQUE
CATEGORIES:WCVL
END:VEVENT

BEGIN:VEVENT
DTSTART:20260308T134500
DTEND:20260308T151500
DTSTAMP:20260419T110855
UID:dab9cfb7282558f06d995e4dcbad5b50@wcvl.ca
CREATED:20260312T220745
DESCRIPTION:
LAST-MODIFIED:20260312T220745
SEQUENCE:0
LOCATION:CPET **nets down - court: 1
STATUS:CONFIRMED
SUMMARY:Nasty 90s @ Wolfpack
TRANSP:OPAQUE
CATEGORIES:WCVL
END:VEVENT

BEGIN:VEVENT
DTSTART:20260315T134500
DTEND:20260315T151500
DTSTAMP:20260419T110855
UID:6ff2b69d6d2ebf159937c9ec2784ad7e@wcvl.ca
CREATED:20260316T221540
DESCRIPTION:
LAST-MODIFIED:20260316T221540
SEQUENCE:0
LOCATION:CPET **nets down - court: 1
STATUS:CONFIRMED
SUMMARY:Nasty 90s @ Hanover Hooligans
TRANSP:OPAQUE
CATEGORIES:WCVL
END:VEVENT

BEGIN:VEVENT
DTSTART:20260322T090000
DTEND:20260322T103000
DTSTAMP:20260419T110855
UID:eab4d8e270ac1c39d4480c835ab0b4de@wcvl.ca
CREATED:20260322T214320
DESCRIPTION:
LAST-MODIFIED:20260322T214320
SEQUENCE:0
LOCATION:MBCI-B **nets up - court: 1
STATUS:CONFIRMED
SUMMARY:Notorious DIG @ Nasty 90s
TRANSP:OPAQUE
CATEGORIES:WCVL
END:VEVENT

END:VCALENDAR