BEGIN:VCALENDAR
PRODID:-//WCVL//NONSGML Calendar//EN
VERSION:2.0
URL:http://www.wcvl.ca/ical.ics?tier=9&team=187
CALSCALE:GREGORIAN
METHOD:PUBLISH
NAME:WCVL - The Blackouts
X-WR-CALNAME:WCVL - The Blackouts
REFRESH-INTERVAL;VALUE=DURATION:PT24H
X-PUBLISHED-TTL:PT24H

BEGIN:VEVENT
DTSTART:20260125T121500
DTEND:20260125T134500
DTSTAMP:20260421T041641
UID:772cf17cfbe478b49a62fc40c42fec68@wcvl.ca
CREATED:20260127T083605
DESCRIPTION:
LAST-MODIFIED:20260127T083605
SEQUENCE:0
LOCATION:MBCI-R - court: 2
STATUS:CONFIRMED
SUMMARY:The Blackouts @ BRIP
TRANSP:OPAQUE
CATEGORIES:WCVL
END:VEVENT

BEGIN:VEVENT
DTSTART:20260201T201500
DTEND:20260201T214500
DTSTAMP:20260421T041641
UID:fac871f4c1d48cdd1cff6d175e6ed344@wcvl.ca
CREATED:20260203T231809
DESCRIPTION:
LAST-MODIFIED:20260203T231809
SEQUENCE:0
LOCATION:BWCS**nets down - court: 2
STATUS:CONFIRMED
SUMMARY:The Blackouts @ We Dig Yo Ballz
TRANSP:OPAQUE
CATEGORIES:WCVL
END:VEVENT

BEGIN:VEVENT
DTSTART:20260222T153000
DTEND:20260222T170000
DTSTAMP:20260421T041641
UID:24611a00cd5703876097b06abc12643b@wcvl.ca
CREATED:20260224T005234
DESCRIPTION:
LAST-MODIFIED:20260224T005234
SEQUENCE:0
LOCATION:MBCI-R - court: 2
STATUS:CONFIRMED
SUMMARY:Late Night Sets @ The Blackouts
TRANSP:OPAQUE
CATEGORIES:WCVL
END:VEVENT

BEGIN:VEVENT
DTSTART:20260301T170000
DTEND:20260301T183000
DTSTAMP:20260421T041641
UID:a269ef5c1e7623a02a651fad5f2b8905@wcvl.ca
CREATED:20260303T100128
DESCRIPTION:
LAST-MODIFIED:20260303T100128
SEQUENCE:0
LOCATION:BWCS - court: 3
STATUS:CONFIRMED
SUMMARY:The Blackouts @ Geddert Done
TRANSP:OPAQUE
CATEGORIES:WCVL
END:VEVENT

BEGIN:VEVENT
DTSTART:20260308T103000
DTEND:20260308T120000
DTSTAMP:20260421T041641
UID:05a0c4a3f3a22424cf61ae7edb982888@wcvl.ca
CREATED:20260311T084433
DESCRIPTION:
LAST-MODIFIED:20260311T084433
SEQUENCE:0
LOCATION:MBCI-R - court: 2
STATUS:CONFIRMED
SUMMARY:The Blackouts @ Halo Halo
TRANSP:OPAQUE
CATEGORIES:WCVL
END:VEVENT

BEGIN:VEVENT
DTSTART:20260315T201500
DTEND:20260315T214500
DTSTAMP:20260421T041641
UID:0006aabe0ba47a35c0b0bf6596f85159@wcvl.ca
CREATED:20260320T094257
DESCRIPTION:
LAST-MODIFIED:20260320T094257
SEQUENCE:0
LOCATION:MBCI-B **nets down - court: 2
STATUS:CONFIRMED
SUMMARY:Spiked Punch @ The Blackouts
TRANSP:OPAQUE
CATEGORIES:WCVL
END:VEVENT

BEGIN:VEVENT
DTSTART:20260322T201500
DTEND:20260322T214500
DTSTAMP:20260421T041641
UID:eddbf5aa71ba4a4029bead17a0940aaf@wcvl.ca
CREATED:20260323T140939
DESCRIPTION:
LAST-MODIFIED:20260323T140939
SEQUENCE:0
LOCATION:BWCS**nets down - court: 2
STATUS:CONFIRMED
SUMMARY:Sets in the City @ The Blackouts
TRANSP:OPAQUE
CATEGORIES:WCVL
END:VEVENT

END:VCALENDAR