BEGIN:VCALENDAR
PRODID:-//WCVL//NONSGML Calendar//EN
VERSION:2.0
URL:http://www.wcvl.ca/ical.ics?tier=9&team=17
CALSCALE:GREGORIAN
METHOD:PUBLISH
NAME:WCVL - BRIP
X-WR-CALNAME:WCVL - BRIP
REFRESH-INTERVAL;VALUE=DURATION:PT24H
X-PUBLISHED-TTL:PT24H

BEGIN:VEVENT
DTSTART:20260125T121500
DTEND:20260125T134500
DTSTAMP:20260421T041655
UID:772cf17cfbe478b49a62fc40c42fec68@wcvl.ca
CREATED:20260127T083605
DESCRIPTION:
LAST-MODIFIED:20260127T083605
SEQUENCE:0
LOCATION:MBCI-R - court: 2
STATUS:CONFIRMED
SUMMARY:The Blackouts @ BRIP
TRANSP:OPAQUE
CATEGORIES:WCVL
END:VEVENT

BEGIN:VEVENT
DTSTART:20260201T170000
DTEND:20260201T183000
DTSTAMP:20260421T041655
UID:7ce485cec479cf699806261f68fc8787@wcvl.ca
CREATED:20260203T231809
DESCRIPTION:
LAST-MODIFIED:20260203T231809
SEQUENCE:0
LOCATION:BWCS - court: 3
STATUS:CONFIRMED
SUMMARY:Halo Halo @ BRIP
TRANSP:OPAQUE
CATEGORIES:WCVL
END:VEVENT

BEGIN:VEVENT
DTSTART:20260222T201500
DTEND:20260222T214500
DTSTAMP:20260421T041655
UID:146017373d58c750fab8341254cf6c16@wcvl.ca
CREATED:20260224T005234
DESCRIPTION:
LAST-MODIFIED:20260224T005234
SEQUENCE:0
LOCATION:BWCS**nets down - court: 2
STATUS:CONFIRMED
SUMMARY:We Dig Yo Ballz @ BRIP
TRANSP:OPAQUE
CATEGORIES:WCVL
END:VEVENT

BEGIN:VEVENT
DTSTART:20260301T201500
DTEND:20260301T214500
DTSTAMP:20260421T041655
UID:2425ad56cc45acbd2fc44f149d69a9b8@wcvl.ca
CREATED:20260303T100128
DESCRIPTION:
LAST-MODIFIED:20260303T100128
SEQUENCE:0
LOCATION:BWCS**nets down - court: 2
STATUS:CONFIRMED
SUMMARY:BRIP @ Spiked Punch
TRANSP:OPAQUE
CATEGORIES:WCVL
END:VEVENT

BEGIN:VEVENT
DTSTART:20260308T170000
DTEND:20260308T183000
DTSTAMP:20260421T041655
UID:9904f28d9384a095bce6d85776ddfb4e@wcvl.ca
CREATED:20260311T084433
DESCRIPTION:
LAST-MODIFIED:20260311T084433
SEQUENCE:0
LOCATION:BWCS - court: 3
STATUS:CONFIRMED
SUMMARY:BRIP @ Late Night Sets
TRANSP:OPAQUE
CATEGORIES:WCVL
END:VEVENT

BEGIN:VEVENT
DTSTART:20260315T103000
DTEND:20260315T120000
DTSTAMP:20260421T041655
UID:bf4776290aafc806f1c892156a3a9d52@wcvl.ca
CREATED:20260317T103139
DESCRIPTION:
LAST-MODIFIED:20260317T103139
SEQUENCE:0
LOCATION:MBCI-R - court: 2
STATUS:CONFIRMED
SUMMARY:BRIP @ Sets in the City
TRANSP:OPAQUE
CATEGORIES:WCVL
END:VEVENT

BEGIN:VEVENT
DTSTART:20260322T103000
DTEND:20260322T120000
DTSTAMP:20260421T041655
UID:0a497dbe28b08a11d5bb373c635909b5@wcvl.ca
CREATED:20260323T140902
DESCRIPTION:
LAST-MODIFIED:20260323T140902
SEQUENCE:0
LOCATION:MBCI-R - court: 2
STATUS:CONFIRMED
SUMMARY:Geddert Done @ BRIP
TRANSP:OPAQUE
CATEGORIES:WCVL
END:VEVENT

END:VCALENDAR