BEGIN:VCALENDAR
PRODID:-//WCVL//NONSGML Calendar//EN
VERSION:2.0
URL:http://www.wcvl.ca/ical.ics?tier=10&team=15
CALSCALE:GREGORIAN
METHOD:PUBLISH
NAME:WCVL - Jacklete
X-WR-CALNAME:WCVL - Jacklete
REFRESH-INTERVAL;VALUE=DURATION:PT24H
X-PUBLISHED-TTL:PT24H

BEGIN:VEVENT
DTSTART:20260125T134500
DTEND:20260125T151500
DTSTAMP:20260423T032836
UID:99d1e1fe9f1e565a009688a315b90a3a@wcvl.ca
CREATED:20260126T092653
DESCRIPTION:
LAST-MODIFIED:20260126T092653
SEQUENCE:0
LOCATION:MBCI-B - court: 1
STATUS:CONFIRMED
SUMMARY:Bump &amp; Grind @ Jacklete
TRANSP:OPAQUE
CATEGORIES:WCVL
END:VEVENT

BEGIN:VEVENT
DTSTART:20260201T153000
DTEND:20260201T170000
DTSTAMP:20260423T032836
UID:403ae99d1425b71673f45a5fb92f9073@wcvl.ca
CREATED:20260202T120759
DESCRIPTION:
LAST-MODIFIED:20260202T120759
SEQUENCE:0
LOCATION:BWCS - court: 2
STATUS:CONFIRMED
SUMMARY:Wrecking Balls @ Jacklete
TRANSP:OPAQUE
CATEGORIES:WCVL
END:VEVENT

BEGIN:VEVENT
DTSTART:20260222T184500
DTEND:20260222T201500
DTSTAMP:20260423T032836
UID:4e6954f3e5fd0d7498210d63d2d4180c@wcvl.ca
CREATED:20260302T131416
DESCRIPTION:
LAST-MODIFIED:20260302T131416
SEQUENCE:0
LOCATION:MBCI-R - court: 2
STATUS:CONFIRMED
SUMMARY:Blazers @ Jacklete
TRANSP:OPAQUE
CATEGORIES:WCVL
END:VEVENT

BEGIN:VEVENT
DTSTART:20260301T184500
DTEND:20260301T201500
DTSTAMP:20260423T032836
UID:8c368c3a4eece69ea3177a5c36e9f7e4@wcvl.ca
CREATED:20260309T154705
DESCRIPTION:
LAST-MODIFIED:20260309T154705
SEQUENCE:0
LOCATION:MBCI-R - court: 2
STATUS:CONFIRMED
SUMMARY:Jacklete @ 4 Bricks
TRANSP:OPAQUE
CATEGORIES:WCVL
END:VEVENT

BEGIN:VEVENT
DTSTART:20260308T153000
DTEND:20260308T170000
DTSTAMP:20260423T032836
UID:606f995415f7f3b809835d859aea00ea@wcvl.ca
CREATED:20260309T154348
DESCRIPTION:
LAST-MODIFIED:20260309T154348
SEQUENCE:0
LOCATION:BWCS - court: 2
STATUS:CONFIRMED
SUMMARY:Jacklete @ Hard Pass
TRANSP:OPAQUE
CATEGORIES:WCVL
END:VEVENT

BEGIN:VEVENT
DTSTART:20260315T134500
DTEND:20260315T151500
DTSTAMP:20260423T032836
UID:8ef93cebb16ab2421ec29798f32a31ff@wcvl.ca
CREATED:20260316T113608
DESCRIPTION:
LAST-MODIFIED:20260316T113608
SEQUENCE:0
LOCATION:MBCI-B - court: 1
STATUS:CONFIRMED
SUMMARY:Jacklete @ Bannock Dawgz
TRANSP:OPAQUE
CATEGORIES:WCVL
END:VEVENT

BEGIN:VEVENT
DTSTART:20260322T103000
DTEND:20260322T120000
DTSTAMP:20260423T032836
UID:b820fc868475ef544228c3c8fa6a685e@wcvl.ca
CREATED:20260323T121211
DESCRIPTION:
LAST-MODIFIED:20260323T121211
SEQUENCE:0
LOCATION:MBCI-B - court: 2
STATUS:CONFIRMED
SUMMARY:BAM @ Jacklete
TRANSP:OPAQUE
CATEGORIES:WCVL
END:VEVENT

END:VCALENDAR