BEGIN:VCALENDAR
PRODID:-//WCVL//NONSGML Calendar//EN
VERSION:2.0
URL:http://www.wcvl.ca/ical.ics?tier=18&team=131
CALSCALE:GREGORIAN
METHOD:PUBLISH
NAME:WCVL - FWV
X-WR-CALNAME:WCVL - FWV
REFRESH-INTERVAL;VALUE=DURATION:PT24H
X-PUBLISHED-TTL:PT24H

BEGIN:VEVENT
DTSTART:20260125T103000
DTEND:20260125T120000
DTSTAMP:20260420T044418
UID:7c016509737f407f177ab479a607fdab@wcvl.ca
CREATED:20260127T020217
DESCRIPTION:
LAST-MODIFIED:20260127T020217
SEQUENCE:0
LOCATION:BWCS - court: 1
STATUS:CONFIRMED
SUMMARY:FWV @ Camp Block
TRANSP:OPAQUE
CATEGORIES:WCVL
END:VEVENT

BEGIN:VEVENT
DTSTART:20260201T184500
DTEND:20260201T201500
DTSTAMP:20260420T044418
UID:16e62507eba0d973dc7aa14aa3aa41ab@wcvl.ca
CREATED:20260202T120556
DESCRIPTION:
LAST-MODIFIED:20260202T120556
SEQUENCE:0
LOCATION:MBCI-R - court: 1
STATUS:CONFIRMED
SUMMARY:Can You Dig It @ FWV
TRANSP:OPAQUE
CATEGORIES:WCVL
END:VEVENT

BEGIN:VEVENT
DTSTART:20260222T184500
DTEND:20260222T201500
DTSTAMP:20260420T044418
UID:d68064201291ce47be8ac5d3918bcb49@wcvl.ca
CREATED:20260222T230306
DESCRIPTION:
LAST-MODIFIED:20260222T230306
SEQUENCE:0
LOCATION:MBCI-R - court: 1
STATUS:CONFIRMED
SUMMARY:FWV @ Practice Safe Sets
TRANSP:OPAQUE
CATEGORIES:WCVL
END:VEVENT

BEGIN:VEVENT
DTSTART:20260301T103000
DTEND:20260301T120000
DTSTAMP:20260420T044418
UID:de3b44f4e0e248b9d56ece385a6c1950@wcvl.ca
CREATED:20260301T222010
DESCRIPTION:
LAST-MODIFIED:20260301T222010
SEQUENCE:0
LOCATION:BWCS - court: 1
STATUS:CONFIRMED
SUMMARY:Touch My Volley @ FWV
TRANSP:OPAQUE
CATEGORIES:WCVL
END:VEVENT

BEGIN:VEVENT
DTSTART:20260308T134500
DTEND:20260308T151500
DTSTAMP:20260420T044418
UID:f3c1eaec9dce37a8f6b301a80570dff9@wcvl.ca
CREATED:20260309T010344
DESCRIPTION:
LAST-MODIFIED:20260309T010344
SEQUENCE:0
LOCATION:MBCI-R - court: 2
STATUS:CONFIRMED
SUMMARY:Blockbusters @ FWV
TRANSP:OPAQUE
CATEGORIES:WCVL
END:VEVENT

BEGIN:VEVENT
DTSTART:20260315T134500
DTEND:20260315T151500
DTSTAMP:20260420T044418
UID:d5aa64e4dbf9684c9d269395bc3de672@wcvl.ca
CREATED:20260316T123852
DESCRIPTION:
LAST-MODIFIED:20260316T123852
SEQUENCE:0
LOCATION:MBCI-B - court: 2
STATUS:CONFIRMED
SUMMARY:FWV @ Volleypals
TRANSP:OPAQUE
CATEGORIES:WCVL
END:VEVENT

BEGIN:VEVENT
DTSTART:20260322T134500
DTEND:20260322T151500
DTSTAMP:20260420T044418
UID:cd7d952b109ea30fa0b8b59c7b7be36d@wcvl.ca
CREATED:20260323T092743
DESCRIPTION:
LAST-MODIFIED:20260323T092743
SEQUENCE:0
LOCATION:MBCI-B - court: 2
STATUS:CONFIRMED
SUMMARY:No Shanks @ FWV
TRANSP:OPAQUE
CATEGORIES:WCVL
END:VEVENT

END:VCALENDAR