BEGIN:VCALENDAR
PRODID:-//WCVL//NONSGML Calendar//EN
VERSION:2.0
URL:http://www.wcvl.ca/ical.ics?tier=8&team=124
CALSCALE:GREGORIAN
METHOD:PUBLISH
NAME:WCVL - Volley Brawlers
X-WR-CALNAME:WCVL - Volley Brawlers
REFRESH-INTERVAL;VALUE=DURATION:PT24H
X-PUBLISHED-TTL:PT24H

BEGIN:VEVENT
DTSTART:20260125T121500
DTEND:20260125T134500
DTSTAMP:20260420T031410
UID:f2ee555e877c9bd7239e2a2d4e5c4f25@wcvl.ca
CREATED:20260127T083700
DESCRIPTION:
LAST-MODIFIED:20260127T083700
SEQUENCE:0
LOCATION:BWCS - court: 3
STATUS:CONFIRMED
SUMMARY:Volley Brawlers @ Spike it like its hot
TRANSP:OPAQUE
CATEGORIES:WCVL
END:VEVENT

BEGIN:VEVENT
DTSTART:20260201T184500
DTEND:20260201T201500
DTSTAMP:20260420T031410
UID:49a0fa0ea45d6c65e0524d65fb737c84@wcvl.ca
CREATED:20260204T004101
DESCRIPTION:
LAST-MODIFIED:20260204T004101
SEQUENCE:0
LOCATION:BWCS - court: 3
STATUS:CONFIRMED
SUMMARY:Volley Brawlers @ Hard For None
TRANSP:OPAQUE
CATEGORIES:WCVL
END:VEVENT

BEGIN:VEVENT
DTSTART:20260222T090000
DTEND:20260222T103000
DTSTAMP:20260420T031410
UID:dff72a168c5feb11f70978d4dc9d3132@wcvl.ca
CREATED:20260224T004936
DESCRIPTION:
LAST-MODIFIED:20260224T004936
SEQUENCE:0
LOCATION:CPET**nets up - court: 2
STATUS:CONFIRMED
SUMMARY:Sacre Blues @ Volley Brawlers
TRANSP:OPAQUE
CATEGORIES:WCVL
END:VEVENT

BEGIN:VEVENT
DTSTART:20260301T121500
DTEND:20260301T134500
DTSTAMP:20260420T031410
UID:ab9fd4aee1ea74d4abd54466385a2d18@wcvl.ca
CREATED:20260303T100417
DESCRIPTION:
LAST-MODIFIED:20260303T100417
SEQUENCE:0
LOCATION:BWCS - court: 3
STATUS:CONFIRMED
SUMMARY:Volley Brawlers @ Game Time
TRANSP:OPAQUE
CATEGORIES:WCVL
END:VEVENT

BEGIN:VEVENT
DTSTART:20260308T090000
DTEND:20260308T103000
DTSTAMP:20260420T031410
UID:d34e8683df527e3555153d979bcda9cf@wcvl.ca
CREATED:20260311T084540
DESCRIPTION:
LAST-MODIFIED:20260311T084540
SEQUENCE:0
LOCATION:CPET**nets up - court: 2
STATUS:CONFIRMED
SUMMARY:Volley Brawlers @ Tipsilog
TRANSP:OPAQUE
CATEGORIES:WCVL
END:VEVENT

BEGIN:VEVENT
DTSTART:20260315T153000
DTEND:20260315T170000
DTSTAMP:20260420T031410
UID:65aaf6fbf016b5f1db30b039bd629efb@wcvl.ca
CREATED:20260317T103250
DESCRIPTION:
LAST-MODIFIED:20260317T103250
SEQUENCE:0
LOCATION:BWCS - court: 2
STATUS:CONFIRMED
SUMMARY:Dump-lings @ Volley Brawlers
TRANSP:OPAQUE
CATEGORIES:WCVL
END:VEVENT

BEGIN:VEVENT
DTSTART:20260322T184500
DTEND:20260322T201500
DTSTAMP:20260420T031410
UID:016b493fcc43c162e3e40250430630c8@wcvl.ca
CREATED:20260323T141136
DESCRIPTION:
LAST-MODIFIED:20260323T141136
SEQUENCE:0
LOCATION:BWCS - court: 3
STATUS:CONFIRMED
SUMMARY:Thunder Buddies @ Volley Brawlers
TRANSP:OPAQUE
CATEGORIES:WCVL
END:VEVENT

END:VCALENDAR