BEGIN:VCALENDAR
PRODID:-//WCVL//NONSGML Calendar//EN
VERSION:2.0
URL:http://www.wcvl.ca/ical.ics?tier=3&team=114
CALSCALE:GREGORIAN
METHOD:PUBLISH
NAME:WCVL - Just the Tip
X-WR-CALNAME:WCVL - Just the Tip
REFRESH-INTERVAL;VALUE=DURATION:PT24H
X-PUBLISHED-TTL:PT24H

BEGIN:VEVENT
DTSTART:20260125T121500
DTEND:20260125T134500
DTSTAMP:20260420T043905
UID:c68df1093a93023d0960841f27224080@wcvl.ca
CREATED:20260127T223939
DESCRIPTION:
LAST-MODIFIED:20260127T223939
SEQUENCE:0
LOCATION:CPET - court: 1
STATUS:CONFIRMED
SUMMARY:Just the Tip @ 2PACS
TRANSP:OPAQUE
CATEGORIES:WCVL
END:VEVENT

BEGIN:VEVENT
DTSTART:20260201T134500
DTEND:20260201T151500
DTSTAMP:20260420T043905
UID:a50303d16c89e22c53d45bd5b9fd888b@wcvl.ca
CREATED:20260202T103216
DESCRIPTION:
LAST-MODIFIED:20260202T103216
SEQUENCE:0
LOCATION:MBCI-R - court: 1
STATUS:CONFIRMED
SUMMARY:Some Fat Cows @ Just the Tip
TRANSP:OPAQUE
CATEGORIES:WCVL
END:VEVENT

BEGIN:VEVENT
DTSTART:20260222T153000
DTEND:20260222T170000
DTSTAMP:20260420T043905
UID:48e4527085f884352825f9f7df2846db@wcvl.ca
CREATED:20260223T124231
DESCRIPTION:
LAST-MODIFIED:20260223T124231
SEQUENCE:0
LOCATION:MBCI-B - court: 1
STATUS:CONFIRMED
SUMMARY:Just the Tip @ Hits &amp; Giggles
TRANSP:OPAQUE
CATEGORIES:WCVL
END:VEVENT

BEGIN:VEVENT
DTSTART:20260301T121500
DTEND:20260301T134500
DTSTAMP:20260420T043905
UID:dd46d788bd5e37a54318d946d6f6d4f4@wcvl.ca
CREATED:20260305T230755
DESCRIPTION:
LAST-MODIFIED:20260305T230755
SEQUENCE:0
LOCATION:CPET - court: 1
STATUS:CONFIRMED
SUMMARY:Hangover Hangtime @ Just the Tip
TRANSP:OPAQUE
CATEGORIES:WCVL
END:VEVENT

BEGIN:VEVENT
DTSTART:20260308T121500
DTEND:20260308T134500
DTSTAMP:20260420T043905
UID:8a16ccb268bbbe680385ddccfbe61737@wcvl.ca
CREATED:20260312T221232
DESCRIPTION:
LAST-MODIFIED:20260312T221232
SEQUENCE:0
LOCATION:CPET - court: 1
STATUS:CONFIRMED
SUMMARY:Shhh...Its Weird @ Just the Tip
TRANSP:OPAQUE
CATEGORIES:WCVL
END:VEVENT

BEGIN:VEVENT
DTSTART:20260315T153000
DTEND:20260315T170000
DTSTAMP:20260420T043905
UID:cc0f7d2f185eccc8dbfa0d0a2671cdf5@wcvl.ca
CREATED:20260315T235916
DESCRIPTION:
LAST-MODIFIED:20260315T235916
SEQUENCE:0
LOCATION:MBCI-B - court: 1
STATUS:CONFIRMED
SUMMARY:Just the Tip @ Bring The Heat
TRANSP:OPAQUE
CATEGORIES:WCVL
END:VEVENT

BEGIN:VEVENT
DTSTART:20260322T153000
DTEND:20260322T170000
DTSTAMP:20260420T043905
UID:5647bc5f58e2c56b1046b5b37be3e0bd@wcvl.ca
CREATED:20260323T011833
DESCRIPTION:
LAST-MODIFIED:20260323T011833
SEQUENCE:0
LOCATION:MBCI-B - court: 1
STATUS:CONFIRMED
SUMMARY:86d Bumps @ Just the Tip
TRANSP:OPAQUE
CATEGORIES:WCVL
END:VEVENT

END:VCALENDAR