BEGIN:VCALENDAR
PRODID:-//WCVL//NONSGML Calendar//EN
VERSION:2.0
URL:http://www.wcvl.ca/ical.ics?tier=17&team=104
CALSCALE:GREGORIAN
METHOD:PUBLISH
NAME:WCVL - Pass and Hitties
X-WR-CALNAME:WCVL - Pass and Hitties
REFRESH-INTERVAL;VALUE=DURATION:PT24H
X-PUBLISHED-TTL:PT24H

BEGIN:VEVENT
DTSTART:20260125T184500
DTEND:20260125T201500
DTSTAMP:20260420T043830
UID:41de57ab08378f2242821fadf055128b@wcvl.ca
CREATED:20260127T010328
DESCRIPTION:
LAST-MODIFIED:20260127T010328
SEQUENCE:0
LOCATION:MBCI-R - court: 1
STATUS:CONFIRMED
SUMMARY:Pass and Hitties @ Block Party
TRANSP:OPAQUE
CATEGORIES:WCVL
END:VEVENT

BEGIN:VEVENT
DTSTART:20260201T170000
DTEND:20260201T183000
DTSTAMP:20260420T043830
UID:86ad2abe9aa87efa03c4bbee3fb005b2@wcvl.ca
CREATED:20260202T120740
DESCRIPTION:
LAST-MODIFIED:20260202T120740
SEQUENCE:0
LOCATION:MBCI-R - court: 1
STATUS:CONFIRMED
SUMMARY:Bad Tech @ Pass and Hitties
TRANSP:OPAQUE
CATEGORIES:WCVL
END:VEVENT

BEGIN:VEVENT
DTSTART:20260222T170000
DTEND:20260222T183000
DTSTAMP:20260420T043830
UID:e64a98242922f7799ec4a0ad6999924f@wcvl.ca
CREATED:20260222T230039
DESCRIPTION:
LAST-MODIFIED:20260222T230039
SEQUENCE:0
LOCATION:MBCI-R - court: 1
STATUS:CONFIRMED
SUMMARY:Pass and Hitties @ Serves You Right
TRANSP:OPAQUE
CATEGORIES:WCVL
END:VEVENT

BEGIN:VEVENT
DTSTART:20260301T201500
DTEND:20260301T214500
DTSTAMP:20260420T043830
UID:d69fe70acfb29c30d1a8a7735bc53b58@wcvl.ca
CREATED:20260302T092026
DESCRIPTION:
LAST-MODIFIED:20260302T092026
SEQUENCE:0
LOCATION:MBCI-B **nets down - court: 1
STATUS:CONFIRMED
SUMMARY:Shake That Pass For Me @ Pass and Hitties
TRANSP:OPAQUE
CATEGORIES:WCVL
END:VEVENT

BEGIN:VEVENT
DTSTART:20260308T170000
DTEND:20260308T183000
DTSTAMP:20260420T043830
UID:9016512cbdfaa7634ba35dd446297b7b@wcvl.ca
CREATED:20260309T014642
DESCRIPTION:
LAST-MODIFIED:20260309T014642
SEQUENCE:0
LOCATION:MBCI-R - court: 1
STATUS:CONFIRMED
SUMMARY:NVC @ Pass and Hitties
TRANSP:OPAQUE
CATEGORIES:WCVL
END:VEVENT

BEGIN:VEVENT
DTSTART:20260315T170000
DTEND:20260315T183000
DTSTAMP:20260420T043830
UID:850618e22f83f152773d2a3e51168812@wcvl.ca
CREATED:20260317T001023
DESCRIPTION:
LAST-MODIFIED:20260317T001023
SEQUENCE:0
LOCATION:MBCI-R - court: 1
STATUS:CONFIRMED
SUMMARY:Pass and Hitties @ Sloppy Sets
TRANSP:OPAQUE
CATEGORIES:WCVL
END:VEVENT

BEGIN:VEVENT
DTSTART:20260322T170000
DTEND:20260322T183000
DTSTAMP:20260420T043830
UID:ee3e2bda9df62dc0c091db891154cf34@wcvl.ca
CREATED:20260323T093111
DESCRIPTION:
LAST-MODIFIED:20260323T093111
SEQUENCE:0
LOCATION:MBCI-R - court: 1
STATUS:CONFIRMED
SUMMARY:Smashleys @ Pass and Hitties
TRANSP:OPAQUE
CATEGORIES:WCVL
END:VEVENT

END:VCALENDAR